BEGIN:VCALENDAR
PRODID:NingEventWidget-v1
VERSION:2.0
METHOD:PUBLISH
BEGIN:VTIMEZONE
TZID:America/Los_Angeles
X-LIC-LOCATION:America/Los_Angeles
BEGIN:DAYLIGHT
TZOFFSETFROM:-0800
TZOFFSETTO:-0700
TZNAME:PDT
DTSTART:19700308T020000
RRULE:FREQ=YEARLY;BYMONTH=3;BYDAY=2SU
END:DAYLIGHT
BEGIN:STANDARD
TZOFFSETFROM:-0700
TZOFFSETTO:-0800
TZNAME:PST
DTSTART:19701101T020000
RRULE:FREQ=YEARLY;BYMONTH=11;BYDAY=1SU
END:STANDARD
END:VTIMEZONE
BEGIN:VEVENT
UID:1464587:Event:647261
DTSTAMP:20260421T102607Z
SUMMARY:GINUWINE
DESCRIPTION:GINUWINE (LIVE) AT MEZZANINE\nSUNDAY, MAY 29, 2016\nAT 9:0
 0 PM (PDT) SAN FRANCISCO, CA\n\n\nFor more information visit http://tr
 ueskool.com/events/ginuwine
DTSTART;TZID=America/Los_Angeles:20160529T210000
DTEND;TZID=America/Los_Angeles:20160529T230000
CATEGORIES:"san francisco", oakland, berkley, "san jose", "bay area"
LOCATION:Mezzanine, San Francisco
WEBSITE:http://www.eventbrite.com/e/ginuwine-live-at-mezzanine-tickets
 -24273665186?aff=Mezzsite
URL:http://www.eventbrite.com/e/ginuwine-live-at-mezzanine-tickets-242
 73665186?aff=Mezzsite
CONTACT:
ORGANIZER;CN="Editor's Pick":http://trueskool.com/profile/RentheVinylA
 rchaeologist
ATTACH;FMTTYPE="image/jpeg":http://storage.ning.com/topology/rest/1.0/
 file/get/2247987949?profile=original
ATTENDEE;ROLE=REQ-PARTICIPANT;PARTSTAT=ACCEPTED;RSVP=TRUE;CN="Editor's
  Pick":http://trueskool.com/profile/RentheVinylArchaeologist
END:VEVENT
END:VCALENDAR
