BEGIN:VCALENDAR
PRODID:NingEventWidget-v1
VERSION:2.0
METHOD:PUBLISH
BEGIN:VTIMEZONE
TZID:America/Los_Angeles
X-LIC-LOCATION:America/Los_Angeles
BEGIN:DAYLIGHT
TZOFFSETFROM:-0800
TZOFFSETTO:-0700
TZNAME:PDT
DTSTART:19700308T020000
RRULE:FREQ=YEARLY;BYMONTH=3;BYDAY=2SU
END:DAYLIGHT
BEGIN:STANDARD
TZOFFSETFROM:-0700
TZOFFSETTO:-0800
TZNAME:PST
DTSTART:19701101T020000
RRULE:FREQ=YEARLY;BYMONTH=11;BYDAY=1SU
END:STANDARD
END:VTIMEZONE
BEGIN:VEVENT
UID:1464587:Event:646890
DTSTAMP:20260420T165917Z
SUMMARY:Ghostface Killah x Killah Priest w/ DJ D-Sharp
DESCRIPTION:\nTHURSDAY, APR 7 Next Level\nFeaturing: Ghostface Killah 
 & Killah Priest\nw/ sounds by DJ D-Sharp (Official Golden State Warrio
 rs DJ)\n@ Temple, 540 Howard St., San Francisco Info: http://www.templ
 esf.com\n\nFor more information visit http://trueskool.com/events/ghos
 tface-killah-x-killah-priest-w-dj-d-sharp
DTSTART;TZID=America/Los_Angeles:20160407T220000
DTEND;TZID=America/Los_Angeles:20160408T020000
CATEGORIES:"bay area", "san francisco"
LOCATION:Temple, San Francisco
WEBSITE:http://www.templesf.com
URL:http://www.templesf.com
CONTACT:
ORGANIZER:Temple SF
ATTACH;FMTTYPE="image/jpeg":http://storage.ning.com/topology/rest/1.0/
 file/get/2247986783?profile=original
ATTENDEE;ROLE=REQ-PARTICIPANT;PARTSTAT=ACCEPTED;RSVP=TRUE;CN="Editor's
  Pick":http://trueskool.com/profile/RentheVinylArchaeologist
END:VEVENT
END:VCALENDAR
