BEGIN:VCALENDAR
PRODID:NingEventWidget-v1
VERSION:2.0
METHOD:PUBLISH
BEGIN:VTIMEZONE
TZID:America/Los_Angeles
X-LIC-LOCATION:America/Los_Angeles
BEGIN:DAYLIGHT
TZOFFSETFROM:-0800
TZOFFSETTO:-0700
TZNAME:PDT
DTSTART:19700308T020000
RRULE:FREQ=YEARLY;BYMONTH=3;BYDAY=2SU
END:DAYLIGHT
BEGIN:STANDARD
TZOFFSETFROM:-0700
TZOFFSETTO:-0800
TZNAME:PST
DTSTART:19701101T020000
RRULE:FREQ=YEARLY;BYMONTH=11;BYDAY=1SU
END:STANDARD
END:VTIMEZONE
BEGIN:VEVENT
UID:1464587:Event:334480
DTSTAMP:20260421T021935Z
SUMMARY:\"Get Smoked\" 420 Festival Live bands, Comedy, Burlesque, Ven
 dors, Food and more
DESCRIPTION:\"Get SMOKED\" 420 Festival, featuring DJ's. live music, 4
 :20 comedy, burlesque, slam poetry, food, vendors, SMOKED the movie, 4
 20 raffles, including live music from \"Clear Conscience\", \"Color Me
  bad\" and \"Love st.\" in downtown Oakland form 2pm-10pm..... High ti
 mes ahead!\n\nFor more information visit http://trueskool.com/events/g
 et-smoked-420-festival-live-bands-comedy-burlesque-vendors-food
DTSTART;TZID=America/Los_Angeles:20140420T140000
DTEND;TZID=America/Los_Angeles:20140420T220000
CATEGORIES:bay, area, 420, oakland, festival, reggae, hip, hop, comedy
 , burlesques, cannabis, san, francisco
LOCATION:Shadow Ultra lounge, Oakland
WEBSITE:http://www.getsmoked420fest.com, https://www.google.com/maps/p
 lace/341+13th+St/@37.8028088,-122.2695387,17z/data=!3m1!4b1!4m2!3m1!1s
 0x808f80b412ffd141:0xba0afcfa92866f1e
URL:http://www.getsmoked420fest.com, https://www.google.com/maps/place
 /341+13th+St/@37.8028088,-122.2695387,17z/data=!3m1!4b1!4m2!3m1!1s0x80
 8f80b412ffd141:0xba0afcfa92866f1e
CONTACT:
ORGANIZER:
ATTACH;FMTTYPE="image/jpeg":http://storage.ning.com/topology/rest/1.0/
 file/get/2247963845?profile=original
ATTENDEE;ROLE=REQ-PARTICIPANT;PARTSTAT=ACCEPTED;RSVP=TRUE;CN=philldfx:
 http://trueskool.com/profile/philldfx
END:VEVENT
END:VCALENDAR
