BEGIN:VCALENDAR
PRODID:NingEventWidget-v1
VERSION:2.0
METHOD:PUBLISH
BEGIN:VTIMEZONE
TZID:America/Los_Angeles
X-LIC-LOCATION:America/Los_Angeles
BEGIN:DAYLIGHT
TZOFFSETFROM:-0800
TZOFFSETTO:-0700
TZNAME:PDT
DTSTART:19700308T020000
RRULE:FREQ=YEARLY;BYMONTH=3;BYDAY=2SU
END:DAYLIGHT
BEGIN:STANDARD
TZOFFSETFROM:-0700
TZOFFSETTO:-0800
TZNAME:PST
DTSTART:19701101T020000
RRULE:FREQ=YEARLY;BYMONTH=11;BYDAY=1SU
END:STANDARD
END:VTIMEZONE
BEGIN:VEVENT
UID:1464587:Event:508248
DTSTAMP:20260420T214306Z
SUMMARY:George Lopez
DESCRIPTION:\nGEORGE LOPEZ\nThe Warfield, San Francisco, CA\n3/7/15, 8
 :00 PM\n>> BUY TICKETS\n\n\nFor more information visit http://trueskoo
 l.com/events/george-lopez-1
DTSTART;TZID=America/Los_Angeles:20150307T200000
DTEND;TZID=America/Los_Angeles:20150307T230000
CATEGORIES:"bay area", "san francisco"
LOCATION:The Warfield, San Francisco
WEBSITE:https://tickets.axs.com/eventShopperV3.html?wr=519f0c17-3183-4
 5f6-af70-832de5b40188&preFill=1&lang=en&locale=en_us
URL:https://tickets.axs.com/eventShopperV3.html?wr=519f0c17-3183-45f6-
 af70-832de5b40188&preFill=1&lang=en&locale=en_us
CONTACT:
ORGANIZER:Goldenvoice
ATTACH;FMTTYPE="image/jpeg":http://storage.ning.com/topology/rest/1.0/
 file/get/2247972507?profile=original
ATTENDEE;ROLE=REQ-PARTICIPANT;PARTSTAT=ACCEPTED;RSVP=TRUE;CN="Editor's
  Pick":http://trueskool.com/profile/RentheVinylArchaeologist
END:VEVENT
END:VCALENDAR
