BEGIN:VCALENDAR
PRODID:NingEventWidget-v1
VERSION:2.0
METHOD:PUBLISH
BEGIN:VTIMEZONE
TZID:America/Los_Angeles
X-LIC-LOCATION:America/Los_Angeles
BEGIN:DAYLIGHT
TZOFFSETFROM:-0800
TZOFFSETTO:-0700
TZNAME:PDT
DTSTART:19700308T020000
RRULE:FREQ=YEARLY;BYMONTH=3;BYDAY=2SU
END:DAYLIGHT
BEGIN:STANDARD
TZOFFSETFROM:-0700
TZOFFSETTO:-0800
TZNAME:PST
DTSTART:19701101T020000
RRULE:FREQ=YEARLY;BYMONTH=11;BYDAY=1SU
END:STANDARD
END:VTIMEZONE
BEGIN:VEVENT
UID:1464587:Event:650284
DTSTAMP:20260421T062323Z
SUMMARY:GEORGE CLINTON & PARLIAMENT FUNKADELIC
DESCRIPTION:GEORGE CLINTON & PARLIAMENT FUNKADELIC P-funk originals an
 d Rock and Roll Hall of Famers George Clinton and Parliament Funkadeli
 c bring their eclectic funk, soul and R&B sound to the Grove.\nADMISSI
 ON FREE SUNDAY, June 26 2PM 19th Avenue and Sloat, San Francisco\n \n
 \nFor more information visit http://trueskool.com/events/george-clinto
 n-parliament-funkadelic-2
DTSTART;TZID=America/Los_Angeles:20160626T140000
DTEND;TZID=America/Los_Angeles:20160626T170000
CATEGORIES:"san francisco", oakland, berkley, "san jose", "bay area"
LOCATION:SIgmund Stern Grove, San Francisco
WEBSITE:
URL:
CONTACT:
ORGANIZER;CN="Editor's Pick":http://trueskool.com/profile/RentheVinylA
 rchaeologist
ATTACH;FMTTYPE="image/jpeg":http://storage.ning.com/topology/rest/1.0/
 file/get/2247988235?profile=original
ATTENDEE;ROLE=REQ-PARTICIPANT;PARTSTAT=ACCEPTED;RSVP=TRUE;CN="Editor's
  Pick":http://trueskool.com/profile/RentheVinylArchaeologist
END:VEVENT
END:VCALENDAR
