BEGIN:VCALENDAR
PRODID:NingEventWidget-v1
VERSION:2.0
METHOD:PUBLISH
BEGIN:VTIMEZONE
TZID:America/Los_Angeles
X-LIC-LOCATION:America/Los_Angeles
BEGIN:DAYLIGHT
TZOFFSETFROM:-0800
TZOFFSETTO:-0700
TZNAME:PDT
DTSTART:19700308T020000
RRULE:FREQ=YEARLY;BYMONTH=3;BYDAY=2SU
END:DAYLIGHT
BEGIN:STANDARD
TZOFFSETFROM:-0700
TZOFFSETTO:-0800
TZNAME:PST
DTSTART:19701101T020000
RRULE:FREQ=YEARLY;BYMONTH=11;BYDAY=1SU
END:STANDARD
END:VTIMEZONE
BEGIN:VEVENT
UID:1464587:Event:543085
DTSTAMP:20260420T232540Z
SUMMARY:George Clinton and Parliament Funkadelic
DESCRIPTION:\nVenue:\nThe Independent\n\nLocation:\nSan Francisco, CA\
 n\nShow Date:\nSunday, March 22\n\nShow Time:\n8:00PM\n\nOn Sale Date:
 \nFriday, January 23\n\nTicket Price:\n$49.50*plus applicable service 
 feesTickets available at The Independent (628 Divisadero, SF) for no s
 ervice charge.\n\n\n\n\n\nFor more information visit http://trueskool.
 com/events/george-clinton-and-parliament-funkadelic
DTSTART;TZID=America/Los_Angeles:20150322T200000
DTEND;TZID=America/Los_Angeles:20150322T230000
CATEGORIES:"san francisco", oakland, berkley, "bay area"
LOCATION:The Independent, San Francisco, CA
WEBSITE:http://SOLD OUT
URL:http://SOLD OUT
CONTACT:
ORGANIZER;CN="Editor's Pick":http://trueskool.com/profile/RentheVinylA
 rchaeologist
ATTACH;FMTTYPE="image/jpeg":http://storage.ning.com/topology/rest/1.0/
 file/get/2247972963?profile=original
ATTENDEE;ROLE=REQ-PARTICIPANT;PARTSTAT=ACCEPTED;RSVP=TRUE;CN="Editor's
  Pick":http://trueskool.com/profile/RentheVinylArchaeologist
ATTENDEE;ROLE=REQ-PARTICIPANT;PARTSTAT=TENTATIVE;RSVP=TRUE;CN="dj tom 
 thump":http://trueskool.com/profile/djtomthump
END:VEVENT
END:VCALENDAR
