BEGIN:VCALENDAR
PRODID:NingEventWidget-v1
VERSION:2.0
METHOD:PUBLISH
BEGIN:VTIMEZONE
TZID:America/Los_Angeles
X-LIC-LOCATION:America/Los_Angeles
BEGIN:DAYLIGHT
TZOFFSETFROM:-0800
TZOFFSETTO:-0700
TZNAME:PDT
DTSTART:19700308T020000
RRULE:FREQ=YEARLY;BYMONTH=3;BYDAY=2SU
END:DAYLIGHT
BEGIN:STANDARD
TZOFFSETFROM:-0700
TZOFFSETTO:-0800
TZNAME:PST
DTSTART:19701101T020000
RRULE:FREQ=YEARLY;BYMONTH=11;BYDAY=1SU
END:STANDARD
END:VTIMEZONE
BEGIN:VEVENT
UID:1464587:Event:628222
DTSTAMP:20260420T204550Z
SUMMARY:Gentlemenhood: Inspiring Better Men, Giving Hope to Women [Pos
 itive Poetry & Spoken Word Night]
DESCRIPTION:Gentlemanhood and Lyrical Opposition presents Paradigm Rhy
 mes 5: Gentlemanhood, an admission-free poetry event highlighting vari
 ous spoken word performances consisting of transparent, emotional and 
 uplifting stories from various artists in the Bay Area. This event is 
 to showcase love through various expressions and perspectives from dif
 ferent artists which include manhood, female empowerment, singleness, 
 heartbreak, restoration, finding true love, etc.  Address: The Urban C
 enter 732 Bryant St San Francisco, CA 94107  Line-up Subject to Change
 *  FREE, register on-site or RSVP online:  http://gentlemenhood.eventb
 rite.com/  Hope to see you all there!\n\nFor more information visit ht
 tp://trueskool.com/events/gentlemenhood-inspiring-better-men-giving-ho
 pe-to-women-positive
DTSTART;TZID=America/Los_Angeles:20150505T190000
DTEND;TZID=America/Los_Angeles:20150505T220000
CATEGORIES:poetry, "spoken word", san, francisco, bay, area, paradigm,
  rhymes
LOCATION:The Urban Center, San Francisco, CA
WEBSITE:http://gentlemenhood.eventbrite.com
URL:http://gentlemenhood.eventbrite.com
CONTACT:424.260.3650
ORGANIZER;CN="Lyrical Opposition":http://trueskool.com/profile/Lyrical
 Opposition
ATTACH;FMTTYPE="image/jpeg":http://storage.ning.com/topology/rest/1.0/
 file/get/2247975758?profile=original
ATTENDEE;ROLE=REQ-PARTICIPANT;PARTSTAT=ACCEPTED;RSVP=TRUE;CN="Lyrical 
 Opposition":http://trueskool.com/profile/LyricalOpposition
END:VEVENT
END:VCALENDAR
