BEGIN:VCALENDAR
PRODID:NingEventWidget-v1
VERSION:2.0
METHOD:PUBLISH
BEGIN:VTIMEZONE
TZID:America/Los_Angeles
X-LIC-LOCATION:America/Los_Angeles
BEGIN:DAYLIGHT
TZOFFSETFROM:-0800
TZOFFSETTO:-0700
TZNAME:PDT
DTSTART:19700308T020000
RRULE:FREQ=YEARLY;BYMONTH=3;BYDAY=2SU
END:DAYLIGHT
BEGIN:STANDARD
TZOFFSETFROM:-0700
TZOFFSETTO:-0800
TZNAME:PST
DTSTART:19701101T020000
RRULE:FREQ=YEARLY;BYMONTH=11;BYDAY=1SU
END:STANDARD
END:VTIMEZONE
BEGIN:VEVENT
UID:1464587:Event:542844
DTSTAMP:20260420T214402Z
SUMMARY:Galactic with Kung Fu
DESCRIPTION:Galactic with Kung Fu\nFridayMarch 06, 2015\n\nGeneral Inf
 ormation\n\nFriday, March 6, 2015Doors 8:00 p.m. // Show 9:00 p.m.Tick
 ets are $32.50 plus applicable charges.\n\n\n\nFor more information vi
 sit http://trueskool.com/events/galactic-with-kung-fu
DTSTART;TZID=America/Los_Angeles:20150306T200000
DTEND;TZID=America/Los_Angeles:20150306T230000
CATEGORIES:"san francisco", oakland, berkley, "bay area"
LOCATION:The Fillmore, San Francisco
WEBSITE:http://concerts.livenation.com/event/1C004D37C3615F5E
URL:http://concerts.livenation.com/event/1C004D37C3615F5E
CONTACT:
ORGANIZER;CN="Editor's Pick":http://trueskool.com/profile/RentheVinylA
 rchaeologist
ATTACH;FMTTYPE="image/jpeg":http://storage.ning.com/topology/rest/1.0/
 file/get/2247973383?profile=original
ATTENDEE;ROLE=REQ-PARTICIPANT;PARTSTAT=ACCEPTED;RSVP=TRUE;CN="Editor's
  Pick":http://trueskool.com/profile/RentheVinylArchaeologist
END:VEVENT
END:VCALENDAR
