BEGIN:VCALENDAR
PRODID:NingEventWidget-v1
VERSION:2.0
METHOD:PUBLISH
BEGIN:VTIMEZONE
TZID:America/Los_Angeles
X-LIC-LOCATION:America/Los_Angeles
BEGIN:DAYLIGHT
TZOFFSETFROM:-0800
TZOFFSETTO:-0700
TZNAME:PDT
DTSTART:19700308T020000
RRULE:FREQ=YEARLY;BYMONTH=3;BYDAY=2SU
END:DAYLIGHT
BEGIN:STANDARD
TZOFFSETFROM:-0700
TZOFFSETTO:-0800
TZNAME:PST
DTSTART:19701101T020000
RRULE:FREQ=YEARLY;BYMONTH=11;BYDAY=1SU
END:STANDARD
END:VTIMEZONE
BEGIN:VEVENT
UID:1464587:Event:653722
DTSTAMP:20260420T115605Z
SUMMARY:FUTURISTIC
DESCRIPTION:\nSun. Sept. 25 Futuristic  Beez J.Rob The Chief Mark A.\n
 @ Slim's, San Francisco Tickets are $16 advance/$19 door  >> BUY TICKE
 TS\n\n\nFor more information visit http://trueskool.com/events/futuris
 tic
DTSTART;TZID=America/Los_Angeles:20160925T193000
DTEND;TZID=America/Los_Angeles:20160925T230000
CATEGORIES:"bay area", "san francisco"
LOCATION:Slim's, SF
WEBSITE:http://www.slimspresents.com/event/futuristic-slims
URL:http://www.slimspresents.com/event/futuristic-slims
CONTACT:
ORGANIZER:Slim's
ATTACH;FMTTYPE="image/jpeg":http://storage.ning.com/topology/rest/1.0/
 file/get/2247991346?profile=original
ATTENDEE;ROLE=REQ-PARTICIPANT;PARTSTAT=ACCEPTED;RSVP=TRUE;CN="Editor's
  Pick":http://trueskool.com/profile/RentheVinylArchaeologist
END:VEVENT
END:VCALENDAR
