BEGIN:VCALENDAR
PRODID:NingEventWidget-v1
VERSION:2.0
METHOD:PUBLISH
BEGIN:VTIMEZONE
TZID:America/Los_Angeles
X-LIC-LOCATION:America/Los_Angeles
BEGIN:DAYLIGHT
TZOFFSETFROM:-0800
TZOFFSETTO:-0700
TZNAME:PDT
DTSTART:19700308T020000
RRULE:FREQ=YEARLY;BYMONTH=3;BYDAY=2SU
END:DAYLIGHT
BEGIN:STANDARD
TZOFFSETFROM:-0700
TZOFFSETTO:-0800
TZNAME:PST
DTSTART:19701101T020000
RRULE:FREQ=YEARLY;BYMONTH=11;BYDAY=1SU
END:STANDARD
END:VTIMEZONE
BEGIN:VEVENT
UID:1464587:Event:360214
DTSTAMP:20260421T120225Z
SUMMARY:Future
DESCRIPTION:Package price: $50\nPackage includes:\n\nOne general admis
 sion ticket\nMonday June 30, 2014\nVIP early entry into the venue\nDig
 ital Pre-Order of Future’s new album Honest\nAutographed, silkscre
 ened tour poster (numbered, limited print)\nHonest VIP tour laminate\
 nLimited availability\n\nFuture - VIP Tour Package\nPackage price: $7
 5\nPackage includes:\n\nOne general admission ticket\nVIP early entry 
 into the venue\nAutographed CD copy of Future's new album Honest\nSpe
 cially designed Future vs. 10.Deep limited edition tour shirt (exclus
 ive to VIP packages only)\nCollectible, silkscreened tour poster (num
 bered, limited print)\nHonest VIP tour laminate\nLimited availability
 \n\n\nFor more information visit http://trueskool.com/events/future
DTSTART;TZID=America/Los_Angeles:20140630T180000
DTEND;TZID=America/Los_Angeles:20140630T190000
CATEGORIES:"bay area", "san francisco", oakland
LOCATION:The Regency Ballroom, San Francisco
WEBSITE:http://www.axs.com/events/249820/future-tickets?skin=goldenvoi
 ce
URL:http://www.axs.com/events/249820/future-tickets?skin=goldenvoice
CONTACT:
ORGANIZER;CN="Editor's Pick":http://trueskool.com/profile/RentheVinylA
 rchaeologist
ATTACH;FMTTYPE="image/jpeg":http://storage.ning.com/topology/rest/1.0/
 file/get/2247961571?profile=original
ATTENDEE;ROLE=REQ-PARTICIPANT;PARTSTAT=ACCEPTED;RSVP=TRUE;CN="James Mi
 chael Federighi":http://trueskool.com/profile/JamesMichaelFederighi
ATTENDEE;ROLE=REQ-PARTICIPANT;PARTSTAT=ACCEPTED;RSVP=TRUE;CN="Editor's
  Pick":http://trueskool.com/profile/RentheVinylArchaeologist
END:VEVENT
END:VCALENDAR
