BEGIN:VCALENDAR
PRODID:NingEventWidget-v1
VERSION:2.0
METHOD:PUBLISH
BEGIN:VTIMEZONE
TZID:America/Los_Angeles
X-LIC-LOCATION:America/Los_Angeles
BEGIN:DAYLIGHT
TZOFFSETFROM:-0800
TZOFFSETTO:-0700
TZNAME:PDT
DTSTART:19700308T020000
RRULE:FREQ=YEARLY;BYMONTH=3;BYDAY=2SU
END:DAYLIGHT
BEGIN:STANDARD
TZOFFSETFROM:-0700
TZOFFSETTO:-0800
TZNAME:PST
DTSTART:19701101T020000
RRULE:FREQ=YEARLY;BYMONTH=11;BYDAY=1SU
END:STANDARD
END:VTIMEZONE
BEGIN:VEVENT
UID:1464587:Event:660253
DTSTAMP:20260421T053442Z
SUMMARY:Future (WIN TICKETS)
DESCRIPTION: ENTER TO WIN A PAIR OF TICKETS. WINNER WILL BE DRAWN RAND
 OMLY AND ANNOUNCED 2 DAYS PRIOR TO EVENT. \n\nThu, Jun 15, 2017 \nFu
 ture Nobody Safe Tour w/ Migos, Tory Lanez, Kodak Black, Zoey Dollaz \
 n Shoreline Amphitheatre, Mountain View, CA 07:00 PM \n>> BUY TICKETS
 \n\n\nFor more information visit http://trueskool.com/events/future-1
DTSTART;TZID=America/Los_Angeles:20170615T190000
DTEND;TZID=America/Los_Angeles:20170615T230000
CATEGORIES:"bay area", "mountain view"
LOCATION:Shoreline Amphitheatre, Mountain View
WEBSITE:http://concerts.livenation.com/event/1C005249F94B83D5?_ga=1.26
 5473423.1263458047.1417725550
URL:http://concerts.livenation.com/event/1C005249F94B83D5?_ga=1.265473
 423.1263458047.1417725550
CONTACT:
ORGANIZER:Live Nation
ATTACH;FMTTYPE="image/jpeg":http://storage.ning.com/topology/rest/1.0/
 file/get/2247994004?profile=original
ATTENDEE;ROLE=REQ-PARTICIPANT;PARTSTAT=ACCEPTED;RSVP=TRUE;CN=King:http
 ://trueskool.com/profile/King258
ATTENDEE;ROLE=REQ-PARTICIPANT;PARTSTAT=ACCEPTED;RSVP=TRUE;CN="Michelle
  Elusive":http://trueskool.com/profile/MichelleElusive
ATTENDEE;ROLE=REQ-PARTICIPANT;PARTSTAT=ACCEPTED;RSVP=TRUE;CN="Elisa Bj
 eldanes":http://trueskool.com/profile/ElisaBjeldanes
ATTENDEE;ROLE=REQ-PARTICIPANT;PARTSTAT=ACCEPTED;RSVP=TRUE;CN="Tali Ben
 attar":http://trueskool.com/profile/TaliBenattar550
ATTENDEE;ROLE=REQ-PARTICIPANT;PARTSTAT=ACCEPTED;RSVP=TRUE;CN="Editor's
  Pick":http://trueskool.com/profile/RentheVinylArchaeologist
END:VEVENT
END:VCALENDAR
