BEGIN:VCALENDAR
PRODID:NingEventWidget-v1
VERSION:2.0
METHOD:PUBLISH
BEGIN:VTIMEZONE
TZID:America/Los_Angeles
X-LIC-LOCATION:America/Los_Angeles
BEGIN:DAYLIGHT
TZOFFSETFROM:-0800
TZOFFSETTO:-0700
TZNAME:PDT
DTSTART:19700308T020000
RRULE:FREQ=YEARLY;BYMONTH=3;BYDAY=2SU
END:DAYLIGHT
BEGIN:STANDARD
TZOFFSETFROM:-0700
TZOFFSETTO:-0800
TZNAME:PST
DTSTART:19701101T020000
RRULE:FREQ=YEARLY;BYMONTH=11;BYDAY=1SU
END:STANDARD
END:VTIMEZONE
BEGIN:VEVENT
UID:1464587:Event:623209
DTSTAMP:20260420T152109Z
SUMMARY:FUNKYTOWN (disco + funk party)
DESCRIPTION:\nFUNKYTOWN, disco + funk music with DJ Dave Paul and DJ J
 eff Harris on Saturday, April 11th. The Loft at Public Works - 161 Eri
 e St (off Mission between Duboce and 14th) in San Francisco.   9pm-3am
 , $8 adv./$10 door, 21+ with ID Tickets at http://bso.sh/funkytown_4_1
 1  More info at https://www.facebook.com/events/1583692811847848\n\nFo
 r more information visit http://trueskool.com/events/funkytown-disco-f
 unk-party
DTSTART;TZID=America/Los_Angeles:20150411T210000
DTEND;TZID=America/Los_Angeles:20150412T030000
CATEGORIES:san, francisco, public, works
LOCATION:Public Works, San Francisco, CA
WEBSITE:http://bso.sh/funkytown_4_11
URL:http://bso.sh/funkytown_4_11
CONTACT:
ORGANIZER;CN="Dave Paul":http://trueskool.com/profile/DavePaul
ATTACH;FMTTYPE="image/jpeg":http://storage.ning.com/topology/rest/1.0/
 file/get/2247975023?profile=original
ATTENDEE;ROLE=REQ-PARTICIPANT;PARTSTAT=ACCEPTED;RSVP=TRUE;CN="Dave Pau
 l":http://trueskool.com/profile/DavePaul
END:VEVENT
END:VCALENDAR
