BEGIN:VCALENDAR
PRODID:NingEventWidget-v1
VERSION:2.0
METHOD:PUBLISH
BEGIN:VTIMEZONE
TZID:America/Los_Angeles
X-LIC-LOCATION:America/Los_Angeles
BEGIN:DAYLIGHT
TZOFFSETFROM:-0800
TZOFFSETTO:-0700
TZNAME:PDT
DTSTART:19700308T020000
RRULE:FREQ=YEARLY;BYMONTH=3;BYDAY=2SU
END:DAYLIGHT
BEGIN:STANDARD
TZOFFSETFROM:-0700
TZOFFSETTO:-0800
TZNAME:PST
DTSTART:19701101T020000
RRULE:FREQ=YEARLY;BYMONTH=11;BYDAY=1SU
END:STANDARD
END:VTIMEZONE
BEGIN:VEVENT
UID:1464587:Event:633743
DTSTAMP:20260421T132552Z
SUMMARY:FUNKYTOWN (disco + funk party)
DESCRIPTION:\nFRIDAY, AUG 14FUNKYTOWN\ndisco + funk music\nw DJ Dave P
 aul & DJ Jeff Harris\nat Neck of the Woods - 406 Clement Street at 5th
  Ave., San Francisco, California 94118.\n9pm-1:30am, $10, 21+ tickets 
 at http://bit.ly/funky081415tix\nPlaying music by these artists and mo
 re: Donna Summer, Bee Gees, Gloria Gaynor, Cheryl Lynn, Sylvester, Ear
 th, Wind & Fire, Kool & The Gang, Cameo, James Brown, Parliament/Funka
 delic, The Commodores, Marvin Gaye, Michael Jackson, Prince, Chic, Pet
 er Brown, Tavares, MFSB, The O'Jays, KC & The Sunshine Band, ABBA, Fox
 y, Narada Michael Walden, Rufus & Chaka Khan, Slave, LaBelle, Wild Che
 rry, Brick, Bionic Boogie, Michael Zager Band, Patrick Hernandez, Alic
 ia Bridges, Con Funk Shun, The Brothers Johnson, Carrie Lucas, The Whi
 spers, Shalamar, Norma Jean Wright, The Sylvers, The Isley Brothers, D
 iana Ross, Thelma Houston, B.T. Express, Stevie Wonder, T.S. Monk, The
  Time, Zapp, Rick James, Lyn Collins, Dazz Band, Bill Withers, The Bar
 -Kays, Average White Band, Lakeside, Musique, Linda Clifford, Cerrone,
  Ohio Players, Roy Ayers, Trouble Funk, Don Blackman, George Clinton, 
 Instant Funk, Teena Marie, A Taste of Honey, Loleatta Holloway, Lady Z
 u...\n\nFor more information visit http://trueskool.com/events/funkyto
 wn-disco-funk-party-1
DTSTART;TZID=America/Los_Angeles:20150814T210000
DTEND;TZID=America/Los_Angeles:20150815T013000
CATEGORIES:san, francisco, neck, of, the, woods
LOCATION:Neck of the Woods, San Francisco, CA
WEBSITE:http://bit.ly/funky081415tix
URL:http://bit.ly/funky081415tix
CONTACT:
ORGANIZER:DJ Dave Paul
ATTACH;FMTTYPE="image/jpeg":http://storage.ning.com/topology/rest/1.0/
 file/get/2247975023?profile=original
ATTENDEE;ROLE=REQ-PARTICIPANT;PARTSTAT=ACCEPTED;RSVP=TRUE;CN="Dave Pau
 l":http://trueskool.com/profile/DavePaul
END:VEVENT
END:VCALENDAR
