BEGIN:VCALENDAR
PRODID:NingEventWidget-v1
VERSION:2.0
METHOD:PUBLISH
BEGIN:VTIMEZONE
TZID:America/Los_Angeles
X-LIC-LOCATION:America/Los_Angeles
BEGIN:DAYLIGHT
TZOFFSETFROM:-0800
TZOFFSETTO:-0700
TZNAME:PDT
DTSTART:19700308T020000
RRULE:FREQ=YEARLY;BYMONTH=3;BYDAY=2SU
END:DAYLIGHT
BEGIN:STANDARD
TZOFFSETFROM:-0700
TZOFFSETTO:-0800
TZNAME:PST
DTSTART:19701101T020000
RRULE:FREQ=YEARLY;BYMONTH=11;BYDAY=1SU
END:STANDARD
END:VTIMEZONE
BEGIN:VEVENT
UID:1464587:Event:93852
DTSTAMP:20260420T165852Z
SUMMARY:FriscoTec :: Friday Aug 19th
DESCRIPTION:╔♫═╗ take shots. get down. it's a summer in the ci
 ty ╔═♫╗Featuring 2 rooms of HOUSE//ELECTRO\\HIP HOP:DJ ANDRE :
 : JOHN BARNACLE :: SEX PIXELSFLO :: MICAH TRON :: SóLFIRE :: CAUSTICM
 IXON & BTRU :: ONE WERD :: D. WIGGINSBROTHA GRIM :: LOST N FOUND :: G.
 A.B.AK FYAH :: RED SNAPPA :: DJ ILLY Dand many more\n \n \n \n++LOC
 AL HOST FAVORITES++= Jesse Vida (Greenhouse)= Sam Arrow (Leland Produc
 tions)= Christopher Ray (Wicked Wednesdays)= Jocquese Whitfield (Vogue
  n Tone)= Jasmine Edwards (Love of Art)+filming for the 'Love of Art'+
 photography by Iky Media - +reedic drink specials+champagne giveaways
 +one big room full of bad bitches-----MAIN ROOM DJs:-----△SEX PIXELS
 △http://soundcloud.com/sex_​pixels△DEEJAY ANDRE△http://djandre
 sf.com/△JOHN BARNACLE△http://soundcloud.com/john​-barnacle======
 ===========================+website special: RSVP at http://lelandpro
 .com/ to get in for $3 before 11pmOR Get priority entry with your L
 P Early Bird,General Admission, or Brass Pass available at http://ft
 2.eventbrite.com/--------------------------​-------------------- ==
 ========================​=======- -$10-$20 without RSVP - - 21+ even
 t - - 9pm-2am- - ==========================​=======\n \n \n \nOu
 r last show was huge, and this one's even bigger!! Rsvp or tickets, a
 nd early arrival is recommended. Mark the date, Friday August 19th, a
 nd see ya there!! more info and updates at: www.lelandpro.comfor BIR
 THDAY SPECIALS, LARGE GROUPS, BOTTLE SERVICE, GUESTLISTS, to get invo
 lved, or general questions, contact: samarrow@lelandpro.com Officia
 l Site: http://www.lelandpro.com/\n\nFor more information visit http:
 //trueskool.com/events/friscotec-friday-aug-19th
DTSTART;TZID=America/Los_Angeles:20110819T210000
DTEND;TZID=America/Los_Angeles:20110820T020000
CATEGORIES:san, fransicsco
LOCATION:supperclub, San Francsico, CA
WEBSITE:http://www.lelandpro.com/
URL:http://www.lelandpro.com/
CONTACT:415 348 0900
ORGANIZER:Leland Productions
ATTACH;FMTTYPE="image/jpeg":http://storage.ning.com/topology/rest/1.0/
 file/get/2247901479?profile=original
ATTENDEE;ROLE=REQ-PARTICIPANT;PARTSTAT=ACCEPTED;RSVP=TRUE;CN="sam arro
 w":http://trueskool.com/profile/samarrow
END:VEVENT
END:VCALENDAR
