BEGIN:VCALENDAR
PRODID:NingEventWidget-v1
VERSION:2.0
METHOD:PUBLISH
BEGIN:VTIMEZONE
TZID:America/Los_Angeles
X-LIC-LOCATION:America/Los_Angeles
BEGIN:DAYLIGHT
TZOFFSETFROM:-0800
TZOFFSETTO:-0700
TZNAME:PDT
DTSTART:19700308T020000
RRULE:FREQ=YEARLY;BYMONTH=3;BYDAY=2SU
END:DAYLIGHT
BEGIN:STANDARD
TZOFFSETFROM:-0700
TZOFFSETTO:-0800
TZNAME:PST
DTSTART:19701101T020000
RRULE:FREQ=YEARLY;BYMONTH=11;BYDAY=1SU
END:STANDARD
END:VTIMEZONE
BEGIN:VEVENT
UID:1464587:Event:399833
DTSTAMP:20260420T202049Z
SUMMARY:Freedom Archives Benefit feat. dead prez, Kev Choice, Jen John
 s, Jahi, Sellassie & DJ Leydis
DESCRIPTION: Thursday 8/21\nAnkh Marketing Presents\nTHE FREEDOM ARCHI
 VES BENEFIT CONCERT\nDEAD PREZ\nKev Choice, Jennifer Johns, Jahi As PE
  2.0, Sellassie, DJ Leydis\nThe New Parish 579 18th St\nOakland, CA, 9
 4612\nhttp://www.thenewparish.com/\nDoors: 8:00 pm / Show: 9:00 pm\n$1
 5 Early Bird - $25 DOS\nTHIS EVENT IS ALL AGES\nUnder 21 must buy $5 d
 rink ticket at the door.\n>> BUY TICKETS\n\n\nFor more information vis
 it http://trueskool.com/events/freedom-archives-benefit-feat-dead-prez
 -kev-choice-jen-johns-jahi
DTSTART;TZID=America/Los_Angeles:20140821T220000
DTEND;TZID=America/Los_Angeles:20140822T020000
CATEGORIES:"bay area", oakland
LOCATION:The New Parish, Oakland
WEBSITE:http://www.ticketfly.com/purchase/event/638549
URL:http://www.ticketfly.com/purchase/event/638549
CONTACT:
ORGANIZER:Ankh Marketing
ATTACH;FMTTYPE="image/jpeg":http://storage.ning.com/topology/rest/1.0/
 file/get/2247965289?profile=original
ATTENDEE;ROLE=REQ-PARTICIPANT;PARTSTAT=ACCEPTED;RSVP=TRUE;CN="James Mi
 chael Federighi":http://trueskool.com/profile/JamesMichaelFederighi
ATTENDEE;ROLE=REQ-PARTICIPANT;PARTSTAT=ACCEPTED;RSVP=TRUE;CN="Editor's
  Pick":http://trueskool.com/profile/RentheVinylArchaeologist
END:VEVENT
END:VCALENDAR
