BEGIN:VCALENDAR
PRODID:NingEventWidget-v1
VERSION:2.0
METHOD:PUBLISH
BEGIN:VTIMEZONE
TZID:America/Los_Angeles
X-LIC-LOCATION:America/Los_Angeles
BEGIN:DAYLIGHT
TZOFFSETFROM:-0800
TZOFFSETTO:-0700
TZNAME:PDT
DTSTART:19700308T020000
RRULE:FREQ=YEARLY;BYMONTH=3;BYDAY=2SU
END:DAYLIGHT
BEGIN:STANDARD
TZOFFSETFROM:-0700
TZOFFSETTO:-0800
TZNAME:PST
DTSTART:19701101T020000
RRULE:FREQ=YEARLY;BYMONTH=11;BYDAY=1SU
END:STANDARD
END:VTIMEZONE
BEGIN:VEVENT
UID:1464587:Event:420406
DTSTAMP:20260421T021954Z
SUMMARY:Free City Presents...  Sara Laine & Friends at George's Nightc
 lub
DESCRIPTION:An evening of Rock n’ Roll, Roots and R&B in San Rafael,
  at Marin County’s venerable venue, George's Nightclub!   The incom
 parable Mark Karan (RatDog, The Other Ones) will be on guitar and voca
 ls, joining Sara (vocals), Robert M. Powell (guitar, pedal steel, sita
 r, and vocals), Susie Davis (backing vocals, keys), Andius Jent (bass)
 , Eddie Berman (drums), and special guests, Steve and Ella Steinberg (
 sax and trumpet)! Tickets: $15   This is going to be a fantastic nigh
 t, featuring fresh and funky originals written by Sara, Rob, and Mark!
   http://www.freecity.co https://www.facebook.com/events/6848966348995
 24/ http://www.georgesnightclub.com\n\nFor more information visit http
 ://trueskool.com/events/free-city-presents-sara-laine-friends-at-georg
 e-s-nightclub
DTSTART;TZID=America/Los_Angeles:20140905T210000
DTEND;TZID=America/Los_Angeles:20140906T010000
CATEGORIES:rock, "n’", roll, roots, "r&b"
LOCATION:George's Nightclub, San Rafael
WEBSITE:http://www.eventbrite.com/e/free-city-presents-sara-laine-frie
 nds-at-georges-nightclub-tickets-12926458385
URL:http://www.eventbrite.com/e/free-city-presents-sara-laine-friends-
 at-georges-nightclub-tickets-12926458385
CONTACT:(415) 226-0262
ORGANIZER;CN="Makaela Susnow":http://trueskool.com/profile/MakaelaSusn
 ow
ATTACH;FMTTYPE="image/jpeg":http://storage.ning.com/topology/rest/1.0/
 file/get/2247966366?profile=original
ATTENDEE;ROLE=REQ-PARTICIPANT;PARTSTAT=ACCEPTED;RSVP=TRUE;CN="Makaela 
 Susnow":http://trueskool.com/profile/MakaelaSusnow
END:VEVENT
END:VCALENDAR
