BEGIN:VCALENDAR
PRODID:NingEventWidget-v1
VERSION:2.0
METHOD:PUBLISH
BEGIN:VTIMEZONE
TZID:America/Los_Angeles
X-LIC-LOCATION:America/Los_Angeles
BEGIN:DAYLIGHT
TZOFFSETFROM:-0800
TZOFFSETTO:-0700
TZNAME:PDT
DTSTART:19700308T020000
RRULE:FREQ=YEARLY;BYMONTH=3;BYDAY=2SU
END:DAYLIGHT
BEGIN:STANDARD
TZOFFSETFROM:-0700
TZOFFSETTO:-0800
TZNAME:PST
DTSTART:19701101T020000
RRULE:FREQ=YEARLY;BYMONTH=11;BYDAY=1SU
END:STANDARD
END:VTIMEZONE
BEGIN:VEVENT
UID:1464587:Event:338058
DTSTAMP:20260420T221056Z
SUMMARY:Free City Presents Points North and Flanelhead at George's Nig
 htclub 4-18-14
DESCRIPTION:Don't call it a comeback!  To make up for the HopMonk Nova
 to show with flanelhed as support that we had to cancel (thanks to the
  untimely end to Eric's roller blading career that resulted in a broke
 n left arm), we're reprising the night's lineup with a headline appear
 ance - just down the road at New Georges in downtown San Rafael.   And
  once again, with the amazing Flanelhed as support for Points North.  
  Advance tickets available directly from George's or https://www.event
 brite.com/e/free-city-presents-points-north-and-flanelhead-georges-418
 14-tickets-11096117787. We're so happy to be \"returning to action\", 
 and it's our only Bay Area headline for a while. So we hope to see eve
 ryone there!\n\nFor more information visit http://trueskool.com/events
 /free-city-presents-points-north-and-flanelhead-at-george-s-1
DTSTART;TZID=America/Los_Angeles:20140418T210000
DTEND;TZID=America/Los_Angeles:20140419T010000
CATEGORIES:georges, nightclub
LOCATION:Georges Nightclub, San Rafael
WEBSITE:https://www.eventbrite.com/e/free-city-presents-points-north-a
 nd-flanelhead-georges-41814-tickets-11096117787
URL:https://www.eventbrite.com/e/free-city-presents-points-north-and-f
 lanelhead-georges-41814-tickets-11096117787
CONTACT:415-226-8435
ORGANIZER;CN="Makaela Susnow":http://trueskool.com/profile/MakaelaSusn
 ow
ATTACH;FMTTYPE="image/jpeg":http://storage.ning.com/topology/rest/1.0/
 file/get/2247959560?profile=original
ATTENDEE;ROLE=REQ-PARTICIPANT;PARTSTAT=ACCEPTED;RSVP=TRUE;CN="Makaela 
 Susnow":http://trueskool.com/profile/MakaelaSusnow
END:VEVENT
END:VCALENDAR
