BEGIN:VCALENDAR
PRODID:NingEventWidget-v1
VERSION:2.0
METHOD:PUBLISH
BEGIN:VTIMEZONE
TZID:America/Los_Angeles
X-LIC-LOCATION:America/Los_Angeles
BEGIN:DAYLIGHT
TZOFFSETFROM:-0800
TZOFFSETTO:-0700
TZNAME:PDT
DTSTART:19700308T020000
RRULE:FREQ=YEARLY;BYMONTH=3;BYDAY=2SU
END:DAYLIGHT
BEGIN:STANDARD
TZOFFSETFROM:-0700
TZOFFSETTO:-0800
TZNAME:PST
DTSTART:19701101T020000
RRULE:FREQ=YEARLY;BYMONTH=11;BYDAY=1SU
END:STANDARD
END:VTIMEZONE
BEGIN:VEVENT
UID:1464587:Event:359233
DTSTAMP:20260420T191018Z
SUMMARY:Free City Presents  Jonny Eller's Funny F'N Friday
DESCRIPTION:Kabir \"Kabeezy\" Singh:\nOne of the fastest rising Stand-
 Up Comedians in the USA headlining nights at some of the most famous c
 lubs in California including the Hollywood Improv, Hollywood Laugh Fac
 tory, Long Beach Laugh Factory, SF Punchline, SF Cobbs, and selling ou
 t many other clubs all over America. Kabir has also opened and shared 
 the stage with some of the biggest Stand-Up Comedians in the world inc
 luding Dave Chappelle, Dane Cook, Bill Burr, Russell Peters and has al
 so been seen touring on the \"BFF\" Tour with Jo Koy and Anjelah Johns
 on. Kabir \"Kabeezy\" Singh will also be making his national stand up 
 comedy debut on the Starz Network in September of 2013.\nhttp://kabirs
 ingh.com/  Bryan Moore:\nBryan’s Comedy and life abide by the same m
 otto: Laugh Now, Laugh Bryan credits Richard Pryor, Bill Cosby, George
  Carlin, Lenny Bruce, Dave Chappelle, Rodney Danerfield, Moms Mabley, 
 Red Foxx, Eddie Murphy, Jerry Seinfeild, Robin Williams and Bernie Mac
  as his comedic inspirations. Bryan has performed with Keenan Ivory Wa
 yans, Damon Wayans, Dave Chappelle, D.L. Hughley, David Alan Grier, Jo
 hn Witherspoon, Mark Curry, Alonzo Bodden, Loni Love, Dat Phan, Aries 
 Spears, J.B. Smoov, Finesse Mitchell and Deon Cole to name a few.\nhtt
 p://bryanmoorelive.com/                       \
 nhttp://georgesnightclub.com/               \n\nFor more infor
 mation visit http://trueskool.com/events/free-city-presents-jonny-elle
 r-s-funny-f-n-friday
DTSTART;TZID=America/Los_Angeles:20140606T203000
DTEND;TZID=America/Los_Angeles:20140607T020000
CATEGORIES:san, rafael, "ca.", event, comedy
LOCATION:Georges Nightclub, San Rafael
WEBSITE:http://www.eventbrite.com/e/jonny-ellers-funny-fn-friday-ticke
 ts-11652150897
URL:http://www.eventbrite.com/e/jonny-ellers-funny-fn-friday-tickets-1
 1652150897
CONTACT:4152268435
ORGANIZER:Freecity
ATTACH;FMTTYPE="image/jpeg":http://storage.ning.com/topology/rest/1.0/
 file/get/2247972877?profile=original
ATTENDEE;ROLE=REQ-PARTICIPANT;PARTSTAT=ACCEPTED;RSVP=TRUE;CN="Makaela 
 Susnow":http://trueskool.com/profile/MakaelaSusnow
END:VEVENT
END:VCALENDAR
