BEGIN:VCALENDAR
PRODID:NingEventWidget-v1
VERSION:2.0
METHOD:PUBLISH
BEGIN:VTIMEZONE
TZID:America/Los_Angeles
X-LIC-LOCATION:America/Los_Angeles
BEGIN:DAYLIGHT
TZOFFSETFROM:-0800
TZOFFSETTO:-0700
TZNAME:PDT
DTSTART:19700308T020000
RRULE:FREQ=YEARLY;BYMONTH=3;BYDAY=2SU
END:DAYLIGHT
BEGIN:STANDARD
TZOFFSETFROM:-0700
TZOFFSETTO:-0800
TZNAME:PST
DTSTART:19701101T020000
RRULE:FREQ=YEARLY;BYMONTH=11;BYDAY=1SU
END:STANDARD
END:VTIMEZONE
BEGIN:VEVENT
UID:1464587:Event:384749
DTSTAMP:20260421T090516Z
SUMMARY:Free City Presents..... Benjamin Brown, KINGSBOROUGH, The Hodg
 es, at the Stork Club July 12th, 2014
DESCRIPTION:\nBenjamin Brown:\n\nBenjamin Brown is a singer/songwriter
  living in the San Francisco Bay Area. He is a self-taught guitarist w
 ho is mainly inspired by the musicians from the aspiring immersion of 
 blues artists in the early part of the 20th Century.\nThe Hodges: http
 s://www.facebook.com/events/240937116117001/?ref_dashboard_filter=upco
 ming\n\n\n\n\n\nFor more information visit http://trueskool.com/events
 /free-city-presents-benjamin-brown-kingsborough-the-hodges-at-the
DTSTART;TZID=America/Los_Angeles:20140707T180000
DTEND;TZID=America/Los_Angeles:20140707T190000
CATEGORIES:stork, club, 2330, telegraph, ave, oakland, california, 946
 21
LOCATION:Stork Club 2330 Telegraph Ave, Oakland, California 94621
WEBSITE:http://www.facebook.com/pages/page/145386292175390
URL:http://www.facebook.com/pages/page/145386292175390
CONTACT:510-444-6174
ORGANIZER;CN="Makaela Susnow":http://trueskool.com/profile/MakaelaSusn
 ow
ATTACH;FMTTYPE="image/jpeg":http://storage.ning.com/topology/rest/1.0/
 file/get/2247962863?profile=original
ATTENDEE;ROLE=REQ-PARTICIPANT;PARTSTAT=ACCEPTED;RSVP=TRUE;CN="Makaela 
 Susnow":http://trueskool.com/profile/MakaelaSusnow
END:VEVENT
END:VCALENDAR
