BEGIN:VCALENDAR
PRODID:NingEventWidget-v1
VERSION:2.0
METHOD:PUBLISH
BEGIN:VTIMEZONE
TZID:America/Los_Angeles
X-LIC-LOCATION:America/Los_Angeles
BEGIN:DAYLIGHT
TZOFFSETFROM:-0800
TZOFFSETTO:-0700
TZNAME:PDT
DTSTART:19700308T020000
RRULE:FREQ=YEARLY;BYMONTH=3;BYDAY=2SU
END:DAYLIGHT
BEGIN:STANDARD
TZOFFSETFROM:-0700
TZOFFSETTO:-0800
TZNAME:PST
DTSTART:19701101T020000
RRULE:FREQ=YEARLY;BYMONTH=11;BYDAY=1SU
END:STANDARD
END:VTIMEZONE
BEGIN:VEVENT
UID:1464587:Event:652434
DTSTAMP:20260420T154822Z
SUMMARY:For The Funk Of It
DESCRIPTION:The ONLY all funk camping festival in the West!!\n\nJoin u
 s in Belden CA, for 3-days and nights of live funk music on the beauti
 ful Feather River August 12-14th.\n\nThis years headliners include the
  legendary Fred Wesley with Object Heavy, Orgone, and Nigel Hall plus 
 30 more bands and djs!!\n\nwww.FTFFEST.com\n\nFor more information vis
 it http://trueskool.com/events/for-the-funk-of-it
DTSTART;TZID=America/Los_Angeles:20160812T000000
DTEND;TZID=America/Los_Angeles:20160814T235900
CATEGORIES:funk, norcal, "music festivals"
LOCATION:Beldentown, CA
WEBSITE:http://www.FTFFEST.com
URL:http://www.FTFFEST.com
CONTACT:
ORGANIZER;CN="Spencer \"DJ Spenny\" Rouse":http://trueskool.com/profil
 e/SpencerDJSpennyRouse
ATTACH;FMTTYPE="image/jpeg":http://storage.ning.com/topology/rest/1.0/
 file/get/2247989919?profile=original
ATTENDEE;ROLE=REQ-PARTICIPANT;PARTSTAT=ACCEPTED;RSVP=TRUE;CN="Spencer 
 \"DJ Spenny\" Rouse":http://trueskool.com/profile/SpencerDJSpennyRouse
END:VEVENT
END:VCALENDAR
