BEGIN:VCALENDAR
PRODID:NingEventWidget-v1
VERSION:2.0
METHOD:PUBLISH
BEGIN:VTIMEZONE
TZID:America/Los_Angeles
X-LIC-LOCATION:America/Los_Angeles
BEGIN:DAYLIGHT
TZOFFSETFROM:-0800
TZOFFSETTO:-0700
TZNAME:PDT
DTSTART:19700308T020000
RRULE:FREQ=YEARLY;BYMONTH=3;BYDAY=2SU
END:DAYLIGHT
BEGIN:STANDARD
TZOFFSETFROM:-0700
TZOFFSETTO:-0800
TZNAME:PST
DTSTART:19701101T020000
RRULE:FREQ=YEARLY;BYMONTH=11;BYDAY=1SU
END:STANDARD
END:VTIMEZONE
BEGIN:VEVENT
UID:1464587:Event:444225
DTSTAMP:20260421T070228Z
SUMMARY:Flying Lotus 11/14 [LA]
DESCRIPTION:\nFlying Lotus\n\n\nThe Wiltern Los Angeles, CA\n\nFri, 11
 /14/1408:00 PM\n\nSee Ticketson Live Nation\n\n\n\n\n\n\nFor more info
 rmation visit http://trueskool.com/events/flying-lotus-11-14-la
DTSTART;TZID=America/Los_Angeles:20141114T200000
DTEND;TZID=America/Los_Angeles:20141114T230000
CATEGORIES:la
LOCATION:The Wiltern Los Angeles, CA
WEBSITE:http://www.ticketmaster.com/partner_redirect?v=J3Sbb-NSE6zoILu
 mHP6k9bOpcpRfoXBFdePlFnjNQ7MeBkKyvW-eNcR9mtpvvbItSgHZXy3vSg0MvKTmdvPaz
 6eTp9dmK7iDo2lvFnd8mDb6Qog1N2Y3ISfGjN12-4zzsX4Fjg&eventid=09004D1CE379
 3DDB&artistid=1333181&artistname=Flying%20Lotus&crosssite=TM_US:133318
 1:73790&tm_link=browse_msg-0_09004D1CE3793DDB
URL:http://www.ticketmaster.com/partner_redirect?v=J3Sbb-NSE6zoILumHP6
 k9bOpcpRfoXBFdePlFnjNQ7MeBkKyvW-eNcR9mtpvvbItSgHZXy3vSg0MvKTmdvPaz6eTp
 9dmK7iDo2lvFnd8mDb6Qog1N2Y3ISfGjN12-4zzsX4Fjg&eventid=09004D1CE3793DDB
 &artistid=1333181&artistname=Flying%20Lotus&crosssite=TM_US:1333181:73
 790&tm_link=browse_msg-0_09004D1CE3793DDB
CONTACT:
ORGANIZER:Editor's Pick
ATTACH;FMTTYPE="image/jpeg":http://storage.ning.com/topology/rest/1.0/
 file/get/2247968891?profile=original
ATTENDEE;ROLE=REQ-PARTICIPANT;PARTSTAT=ACCEPTED;RSVP=TRUE;CN="Ren the 
 Vinyl Archaeologist":http://trueskool.com/profile/xh51jvilojur
END:VEVENT
END:VCALENDAR
