BEGIN:VCALENDAR
PRODID:NingEventWidget-v1
VERSION:2.0
METHOD:PUBLISH
BEGIN:VTIMEZONE
TZID:America/Los_Angeles
X-LIC-LOCATION:America/Los_Angeles
BEGIN:DAYLIGHT
TZOFFSETFROM:-0800
TZOFFSETTO:-0700
TZNAME:PDT
DTSTART:19700308T020000
RRULE:FREQ=YEARLY;BYMONTH=3;BYDAY=2SU
END:DAYLIGHT
BEGIN:STANDARD
TZOFFSETFROM:-0700
TZOFFSETTO:-0800
TZNAME:PST
DTSTART:19701101T020000
RRULE:FREQ=YEARLY;BYMONTH=11;BYDAY=1SU
END:STANDARD
END:VTIMEZONE
BEGIN:VEVENT
UID:1464587:Event:650228
DTSTAMP:20260420T115717Z
SUMMARY:Flying Lotus
DESCRIPTION:Flying Lotus Funkadelic featuring George Clinton  Shabazz 
 Palaces  Thundercat  The Gaslamp Killer Fox Theater Oakland, CA Show: 
 7:00pm\n\nFor more information visit http://trueskool.com/events/flyin
 g-lotus-1
DTSTART;TZID=America/Los_Angeles:20160915T190000
DTEND;TZID=America/Los_Angeles:20160915T230000
CATEGORIES:"san francisco", oakland, berkley, "san jose", "bay area"
LOCATION:Fox Theater Oakland, CA
WEBSITE:http://http://www.ticketmaster.com/event/1C0050A3A8184FC7?came
 from=CFC_ANOTHERPLANET_web&brand=anotherplanet
URL:http://http://www.ticketmaster.com/event/1C0050A3A8184FC7?camefrom
 =CFC_ANOTHERPLANET_web&brand=anotherplanet
CONTACT:
ORGANIZER;CN="Editor's Pick":http://trueskool.com/profile/RentheVinylA
 rchaeologist
ATTACH;FMTTYPE="image/jpeg":http://storage.ning.com/topology/rest/1.0/
 file/get/2247988201?profile=original
ATTENDEE;ROLE=REQ-PARTICIPANT;PARTSTAT=ACCEPTED;RSVP=TRUE;CN="Editor's
  Pick":http://trueskool.com/profile/RentheVinylArchaeologist
END:VEVENT
END:VCALENDAR
