BEGIN:VCALENDAR
PRODID:NingEventWidget-v1
VERSION:2.0
METHOD:PUBLISH
BEGIN:VTIMEZONE
TZID:America/Los_Angeles
X-LIC-LOCATION:America/Los_Angeles
BEGIN:DAYLIGHT
TZOFFSETFROM:-0800
TZOFFSETTO:-0700
TZNAME:PDT
DTSTART:19700308T020000
RRULE:FREQ=YEARLY;BYMONTH=3;BYDAY=2SU
END:DAYLIGHT
BEGIN:STANDARD
TZOFFSETFROM:-0700
TZOFFSETTO:-0800
TZNAME:PST
DTSTART:19701101T020000
RRULE:FREQ=YEARLY;BYMONTH=11;BYDAY=1SU
END:STANDARD
END:VTIMEZONE
BEGIN:VEVENT
UID:1464587:Event:56645
DTSTAMP:20260422T043815Z
SUMMARY:|FLEX THURSDAYS |
DESCRIPTION:Wanubi Project, City Cat Sound, Rebellion Sound & New Vibe
  Present:\n\nFLEX THURSDAYS\n\nWe have all di ingredients to mek di ni
 ght sizzle, but cool yuh down at di same time! Come check us out every
  Thursday!!!\n\nReggae :: Dancehall :: Remixes :: R&B\n\nWith your fav
 orite Selektas:\n\nYOUNG FYAH\n\nDJ HENROC (City Cat Sound)\n\nDJ POLO
  (Rebellion Sound & Reggae Gold)\n\nREGGAE :: DANCEHALL :: REMIXES\n\n
 We Lookin forward to see you in de place at the Bay Area’s Premier N
 ite Spot. Beautiful People, Music & Vibe to start your weekend off Nic
 e!\n\nFLEX THURSDAYS\n@ Air Ultra Lounge\n492 9th – Oak\nFREE ALL NI
 GHT!!\nLower Outside Patio & Lounge\nCasual Dress & Good Attitude Requ
 ired\n\nFor more information visit http://trueskool.com/events/flex-th
 ursdays-6
DTSTART;TZID=America/Los_Angeles:20100527T220000
DTEND;TZID=America/Los_Angeles:20100528T020000
CATEGORIES:reggae, dancehall, remixes
LOCATION:Air Lounge, Oakland, CA
WEBSITE:http://www.djhenroc.com
URL:http://www.djhenroc.com
CONTACT:
ORGANIZER;CN="DJ HENROC":http://trueskool.com/profile/DJHENROC
ATTACH;FMTTYPE="image/jpeg":http://storage.ning.com/topology/rest/1.0/
 file/get/2247875070?profile=original
ATTENDEE;ROLE=REQ-PARTICIPANT;PARTSTAT=ACCEPTED;RSVP=TRUE;CN="DJ HENRO
 C":http://trueskool.com/profile/DJHENROC
END:VEVENT
END:VCALENDAR
