BEGIN:VCALENDAR
PRODID:NingEventWidget-v1
VERSION:2.0
METHOD:PUBLISH
BEGIN:VTIMEZONE
TZID:America/Los_Angeles
X-LIC-LOCATION:America/Los_Angeles
BEGIN:DAYLIGHT
TZOFFSETFROM:-0800
TZOFFSETTO:-0700
TZNAME:PDT
DTSTART:19700308T020000
RRULE:FREQ=YEARLY;BYMONTH=3;BYDAY=2SU
END:DAYLIGHT
BEGIN:STANDARD
TZOFFSETFROM:-0700
TZOFFSETTO:-0800
TZNAME:PST
DTSTART:19701101T020000
RRULE:FREQ=YEARLY;BYMONTH=11;BYDAY=1SU
END:STANDARD
END:VTIMEZONE
BEGIN:VEVENT
UID:1464587:Event:673293
DTSTAMP:20260420T231745Z
SUMMARY:FLATBUSH ZOMBIES
DESCRIPTION:FLATBUSH ZOMBIES\r\nKirk Knight, Nyck Caution\r\nSaturday,
  June 16, 2018 Doors: 8:00PM |Show: 9:00PM 982 Market Street\r\nSan Fr
 ancisco, CA 94102 (415) 345-0900 THE WARFIELD\n\nFor more information 
 visit http://trueskool.com/events/flatbush-zombies
DTSTART;TZID=America/Los_Angeles:20180616T200000
DTEND;TZID=America/Los_Angeles:20180616T230000
CATEGORIES:"bay area", oakland, "san francisco", "san jose", berkeley
LOCATION:THE WARFIELD, SF
WEBSITE:http://www.axs.com/events/350470/flatbush-zombies-tickets?skin
 =goldenvoice
URL:http://www.axs.com/events/350470/flatbush-zombies-tickets?skin=gol
 denvoice
CONTACT:
ORGANIZER;CN="Editor's Pick":http://trueskool.com/profile/RentheVinylA
 rchaeologist
ATTACH;FMTTYPE="image/jpeg":http://storage.ning.com/topology/rest/1.0/
 file/get/2248004610?profile=original
ATTENDEE;ROLE=REQ-PARTICIPANT;PARTSTAT=ACCEPTED;RSVP=TRUE;CN="Editor's
  Pick":http://trueskool.com/profile/RentheVinylArchaeologist
END:VEVENT
END:VCALENDAR
