BEGIN:VCALENDAR
PRODID:NingEventWidget-v1
VERSION:2.0
METHOD:PUBLISH
BEGIN:VTIMEZONE
TZID:America/Los_Angeles
X-LIC-LOCATION:America/Los_Angeles
BEGIN:DAYLIGHT
TZOFFSETFROM:-0800
TZOFFSETTO:-0700
TZNAME:PDT
DTSTART:19700308T020000
RRULE:FREQ=YEARLY;BYMONTH=3;BYDAY=2SU
END:DAYLIGHT
BEGIN:STANDARD
TZOFFSETFROM:-0700
TZOFFSETTO:-0800
TZNAME:PST
DTSTART:19701101T020000
RRULE:FREQ=YEARLY;BYMONTH=11;BYDAY=1SU
END:STANDARD
END:VTIMEZONE
BEGIN:VEVENT
UID:1464587:Event:640525
DTSTAMP:20260420T165920Z
SUMMARY:Flatbush Zombies (WIN TICKETS)
DESCRIPTION:ENTER TO WIN A PAIR OF TICKETS. WINNER WILL BE DRAWN RANDO
 MLY AND ANNOUNCED 2 DAYS PRIOR TO EVENT.  \n SUNDAY, APR 24 Flatbush
  Zombies\n\n@ The Regency Ballroom, SF\nAnnounce: Monday 1/11 10am On 
 Sale: Friday 1/15 10am >> BUY TICKETS\n\n\n\nFor more information visi
 t http://trueskool.com/events/flatbush-zombies-win-tickets
DTSTART;TZID=America/Los_Angeles:20160424T190000
DTEND;TZID=America/Los_Angeles:20160424T230000
CATEGORIES:"bay area", "san francisco"
LOCATION:The Regency Ballroom, San Francisco
WEBSITE:http://axs.com/events/303621/flatbush-zombies-tickets?cid=reg_
 flatbushzombies_trueskool
URL:http://axs.com/events/303621/flatbush-zombies-tickets?cid=reg_flat
 bushzombies_trueskool
CONTACT:
ORGANIZER:Goldenvoice
ATTACH;FMTTYPE="image/jpeg":http://storage.ning.com/topology/rest/1.0/
 file/get/2247982338?profile=original
ATTENDEE;ROLE=REQ-PARTICIPANT;PARTSTAT=ACCEPTED;RSVP=TRUE;CN="Elisa Bj
 eldanes":http://trueskool.com/profile/ElisaBjeldanes
ATTENDEE;ROLE=REQ-PARTICIPANT;PARTSTAT=ACCEPTED;RSVP=TRUE;CN="Donte Ha
 rrison":http://trueskool.com/profile/DonteHarrison
ATTENDEE;ROLE=REQ-PARTICIPANT;PARTSTAT=ACCEPTED;RSVP=TRUE;CN="Editor's
  Pick":http://trueskool.com/profile/RentheVinylArchaeologist
END:VEVENT
END:VCALENDAR
