BEGIN:VCALENDAR
PRODID:NingEventWidget-v1
VERSION:2.0
METHOD:PUBLISH
BEGIN:VTIMEZONE
TZID:America/Los_Angeles
X-LIC-LOCATION:America/Los_Angeles
BEGIN:DAYLIGHT
TZOFFSETFROM:-0800
TZOFFSETTO:-0700
TZNAME:PDT
DTSTART:19700308T020000
RRULE:FREQ=YEARLY;BYMONTH=3;BYDAY=2SU
END:DAYLIGHT
BEGIN:STANDARD
TZOFFSETFROM:-0700
TZOFFSETTO:-0800
TZNAME:PST
DTSTART:19701101T020000
RRULE:FREQ=YEARLY;BYMONTH=11;BYDAY=1SU
END:STANDARD
END:VTIMEZONE
BEGIN:VEVENT
UID:1464587:Event:58437
DTSTAMP:20260421T065315Z
SUMMARY:FLASHBACK FRIDAYS: DJ Platurn & Dj Mere w/ special guest Ren t
 he Vinyl Archaeologist
DESCRIPTION:FRIDAY, JUNE 4TH\nFLASHBACK FRIDAYS\nOld School Hip Hop, C
 lassic Party Anthems & All Things Funky\n\nSpecial Edition w/\nREN THE
  VINYL ARCHAEOLOGIST (True Skool)\n\nAlong with your Flashback residen
 ts...\nThe Oakland Faders:\nDJ Platurn & \nDJ Mere\n\nHosted by Larry 
 Brite\n\nAs a bay area resident (by way of New York), Ren the Vinyl Ar
 chaeologist made his mark by curating top notch events featuring hip h
 op legends and supporting independent artists from the Bay and beyond.
  In 2000, his True Skool events won the \"Best of the Bay\" in the SF 
 Bay Guardian. Ren has appeared on numerous publications, such as the X
 LR8R, 7x7, SF Weekly, SF Examiner, Mugshot and SF Magazine, to name a 
 few.\n\nSince True Skool's inception in 1999, his online magazine and 
 newsletter has served as a resource that covers hip hop history, polit
 ics, emerging artists and events. As a DJ, he has shared bills with wo
 rld-renowned artists such as Grandmaster Flash, Jazzy Jeff, Kool Herc,
  Afrika Bambaataa, Kool DJ Red Alert, Q-Bert, Cut Chemist, DJ Premier,
  Wu-Tang Clan, Lupe Fiasco, Ali Shaheed Muhammad (A Tribe Called Quest
 ), Michael Franti & Spearhead, Lyrics Born, Masta Ace, Biz Markie, Dil
 ated Peoples, The Coup, KRS-One, Pharcyde, DJ Bobbito, DJ Cash Money a
 nd the list goes on.\n\nHis diverse selections are influenced by his e
 ast coast background, from b-boying in the early 80s to attending hous
 e parties and New York City clubs. He experienced the New York City un
 derground rave scene in it's heyday at legendary rave parties such as 
 Nasa at the Shelter in the early 90s. Then, the acid-jazz scene at Gia
 nt Step parties and the soul/funk revival at Soul Kitchen. Ren is a pr
 ofessional party rocker who can put it down among the best of them wit
 h a vast arsenal of vinyl weapons to drop on any dancefloor, ranging f
 rom hip hop & soul to electro, house and breaks to trip hop and acid j
 azz.\n\nHe has graced many venues with his non-stop seemless sets with
  regular appearances at DNA Lounge, Mighty, Club 6, Poleng Lounge and 
 the Shattuck Downlow. He has also made appearances at Ruby Skye, 1015,
  Independent, Yerba Buena Center for the Arts and Sony Metreon, among 
 a slew of venues in San Francisco. In addition, he has appeared at Mic
 hael Franti & Spearhead's annual \"9-11 Power to the Peaceful Festival
 \", TV-20's \"Distortion2Static\" hip hop show, Myx.tv's \"Built from 
 Scratch\" and KPFA's Hardknock Radio.\n\nLuka's Tap Room, 2221 Broadwa
 y @ West Grand\nOakland, CA\nGet directions here: http://lukasoakland.
 com/Directions.htm\nEARLY ARRIVAL IS STRONGLY RECOMMENDED!\n\nFor more
  information visit http://trueskool.com/events/flashback-fridays-dj-pl
 aturn
DTSTART;TZID=America/Los_Angeles:20100604T213000
DTEND;TZID=America/Los_Angeles:20100605T020000
CATEGORIES:old, school, hip, hop, classic, party, anthems, "&", all, t
 hings, funky
LOCATION:Luka's Tap Room, Oakland, CA
WEBSITE:http://lukasoakland.com/Directions.htm
URL:http://lukasoakland.com/Directions.htm
CONTACT:
ORGANIZER:Oakland Faders
ATTACH;FMTTYPE="image/jpeg":http://storage.ning.com/topology/rest/1.0/
 file/get/2247879952?profile=original
ATTENDEE;ROLE=REQ-PARTICIPANT;PARTSTAT=ACCEPTED;RSVP=TRUE;CN="Editor's
  Pick":http://trueskool.com/profile/RentheVinylArchaeologist
END:VEVENT
END:VCALENDAR
