BEGIN:VCALENDAR
PRODID:NingEventWidget-v1
VERSION:2.0
METHOD:PUBLISH
BEGIN:VTIMEZONE
TZID:America/Los_Angeles
X-LIC-LOCATION:America/Los_Angeles
BEGIN:DAYLIGHT
TZOFFSETFROM:-0800
TZOFFSETTO:-0700
TZNAME:PDT
DTSTART:19700308T020000
RRULE:FREQ=YEARLY;BYMONTH=3;BYDAY=2SU
END:DAYLIGHT
BEGIN:STANDARD
TZOFFSETFROM:-0700
TZOFFSETTO:-0800
TZNAME:PST
DTSTART:19701101T020000
RRULE:FREQ=YEARLY;BYMONTH=11;BYDAY=1SU
END:STANDARD
END:VTIMEZONE
BEGIN:VEVENT
UID:1464587:Event:79287
DTSTAMP:20260420T134557Z
SUMMARY:FiX-SF Community Dance Event and Fundraiser
DESCRIPTION:The crew from FiX are teaming up with some local DJ heroes
  and electronic music legend (Lee Coombs/Thrust Recordings/Lot49) to b
 ring you an unforgettable evening of music and dance. All proceeds fro
 m the benefit will go toward the medical bills of Sasha Shulgin (about
  Sasha Shulgin: http://en.wikipedia.org/wiki/Alexander_Shulgin).\nCom
 e out, dance to some killer DJ's, have a good time, and feel good abou
 t giving something back to the universe!\nBuy your $10 PRE-SALE ticket
 s here: http://www.inticketing.com/events/139422(If you can’t make 
 it, but still wish to donate to Sasha, please click to buy ticket(s).)
 \nWhat: SF Community Dance Event & Fund RaiserWhen: Saturday, March 12
 , 2011 from 10p-4aWhere: MightySF, 119 Utah Street, San Francisco, CAW
 ho: Lee Coombs, Jive, Scottino, Rumblemunk, Smoove, SEVA, Aaron Pope, 
 Deckard, MACE, KapN'Kirk, Rrrus & HeliosWhy: Bring the SF dance commun
 ity together - through music - for a worthy cause*.Cost: $10 presale t
 icket / $15 door (sliding scale)*All proceeds from this event will be 
 donated to Sasha Shulgin’s medical fund.\n\nFor more information vis
 it http://trueskool.com/events/fixsf-community-dance-event
DTSTART;TZID=America/Los_Angeles:20110312T220000
DTEND;TZID=America/Los_Angeles:20110313T040000
CATEGORIES:san, francisco, bay, area, ca
LOCATION:Mighty, San Francisco, CA
WEBSITE:http://www.mighty119.com
URL:http://www.mighty119.com
CONTACT:415.762.0151
ORGANIZER;CN=SteadySF:http://trueskool.com/profile/SteadySF
ATTACH;FMTTYPE="image/jpeg":http://storage.ning.com/topology/rest/1.0/
 file/get/2247893063?profile=original
ATTENDEE;ROLE=REQ-PARTICIPANT;PARTSTAT=ACCEPTED;RSVP=TRUE;CN=SteadySF:
 http://trueskool.com/profile/SteadySF
END:VEVENT
END:VCALENDAR
