BEGIN:VCALENDAR
PRODID:NingEventWidget-v1
VERSION:2.0
METHOD:PUBLISH
BEGIN:VTIMEZONE
TZID:America/Los_Angeles
X-LIC-LOCATION:America/Los_Angeles
BEGIN:DAYLIGHT
TZOFFSETFROM:-0800
TZOFFSETTO:-0700
TZNAME:PDT
DTSTART:19700308T020000
RRULE:FREQ=YEARLY;BYMONTH=3;BYDAY=2SU
END:DAYLIGHT
BEGIN:STANDARD
TZOFFSETFROM:-0700
TZOFFSETTO:-0800
TZNAME:PST
DTSTART:19701101T020000
RRULE:FREQ=YEARLY;BYMONTH=11;BYDAY=1SU
END:STANDARD
END:VTIMEZONE
BEGIN:VEVENT
UID:1464587:Event:672954
DTSTAMP:20260420T183007Z
SUMMARY:Elegant Thursday
DESCRIPTION:A venue where artist can book  a release or listening par
 ty.  Customize bottle service.  Get club singles tested by dj etc.\n
 \nAlso dancing and dj music for general public.  No cover, casual dre
 ss,\n\nHip Hop R&B Top 40, trap and Club Classics,\n\nDowntown San Jos
 e,  Easy Parking, 2 separate dance floors, and outdoor patio, Can hav
 e to 3 different dj's.\n\nCome see the Venue this Thurs. May 10, 2018\
 nWorld Class DJ in the mix:  DJ Johnny Afro\n\nFor more information v
 isit http://trueskool.com/events/first-thursday
DTSTART;TZID=America/Los_Angeles:20180621T220000
DTEND;TZID=America/Los_Angeles:20180622T020000
CATEGORIES:dj
LOCATION:San Jose, CA
WEBSITE:https://www.google.com/maps/place/ENSO+Bar+%26+Nightclub/@37.3
 37288,-121.8909424,17z/data=!3m1!4b1!4m5!3m4!1s0x808fccbd1e46911b:0x75
 8455091d92e14f!8m2!3d37.337288!4d-121.8887537
URL:https://www.google.com/maps/place/ENSO+Bar+%26+Nightclub/@37.33728
 8,-121.8909424,17z/data=!3m1!4b1!4m5!3m4!1s0x808fccbd1e46911b:0x758455
 091d92e14f!8m2!3d37.337288!4d-121.8887537
CONTACT:(408) 909-3676
ORGANIZER;CN="Bass Way Records":http://trueskool.com/profile/BassWayRe
 cords
ATTACH;FMTTYPE="image/jpeg":http://storage.ning.com/topology/rest/1.0/
 file/get/2248008179?profile=original
ATTENDEE;ROLE=REQ-PARTICIPANT;PARTSTAT=ACCEPTED;RSVP=TRUE;CN="Bass Way
  Records":http://trueskool.com/profile/BassWayRecords
END:VEVENT
END:VCALENDAR
