BEGIN:VCALENDAR
PRODID:NingEventWidget-v1
VERSION:2.0
METHOD:PUBLISH
BEGIN:VTIMEZONE
TZID:America/Los_Angeles
X-LIC-LOCATION:America/Los_Angeles
BEGIN:DAYLIGHT
TZOFFSETFROM:-0800
TZOFFSETTO:-0700
TZNAME:PDT
DTSTART:19700308T020000
RRULE:FREQ=YEARLY;BYMONTH=3;BYDAY=2SU
END:DAYLIGHT
BEGIN:STANDARD
TZOFFSETFROM:-0700
TZOFFSETTO:-0800
TZNAME:PST
DTSTART:19701101T020000
RRULE:FREQ=YEARLY;BYMONTH=11;BYDAY=1SU
END:STANDARD
END:VTIMEZONE
BEGIN:VEVENT
UID:1464587:Event:676458
DTSTAMP:20260420T232056Z
SUMMARY:Fiestas Patrias del Perú
DESCRIPTION:July 27 @ 9:00 pm - July 28 @ 12:30 am\n$15 Adelante / $
 20 Puerta\n$15 Advance / $20 Door\nMusica en Vivo Bailable, Comida Per
 uana y más!\nHomenaje al maestro Augusto Polo Campos – Canciones Cr
 iollas/Afro-Peruanas al Ritmo del Son Cubano de Angel Lobaton!\nGrupo 
 SALCHICHA – Cumbias Peruanas y mas para bailar!\nDeliciosa comida y 
 bebidas Peruanas a la venta!\nEnglish Translation:\nLive Music, Peruvi
 an Food, and More!\nSon Cubano tribute to Augusto Polo Campos by Angel
  Lobaton!\nPeruvian Cumbia by SALCHICHA!\nDelicious Peruvian food and 
 drinks!\n\n\nFor more information visit http://trueskool.com/events/fi
 estas-patrias-del-per
DTSTART;TZID=America/Los_Angeles:20180727T210000
DTEND;TZID=America/Los_Angeles:20180728T003000
CATEGORIES:berkeley, perú, "bay area"
LOCATION:La Peña Cultural Center, Berkeley, California
WEBSITE:https://lapena.org/event/la-pena-cultural-center-presenta-fies
 tas-patrias-del-peru/
URL:https://lapena.org/event/la-pena-cultural-center-presenta-fiestas-
 patrias-del-peru/
CONTACT:5108492568
ORGANIZER;CN="Analisa Pines":http://trueskool.com/profile/AnalisaPines
ATTACH;FMTTYPE="image/jpeg":http://storage.ning.com/topology/rest/1.0/
 file/get/2248007429?profile=original
ATTENDEE;ROLE=REQ-PARTICIPANT;PARTSTAT=ACCEPTED;RSVP=TRUE;CN="Analisa 
 Pines":http://trueskool.com/profile/AnalisaPines
END:VEVENT
END:VCALENDAR
