BEGIN:VCALENDAR
PRODID:NingEventWidget-v1
VERSION:2.0
METHOD:PUBLISH
BEGIN:VTIMEZONE
TZID:America/Los_Angeles
X-LIC-LOCATION:America/Los_Angeles
BEGIN:DAYLIGHT
TZOFFSETFROM:-0800
TZOFFSETTO:-0700
TZNAME:PDT
DTSTART:19700308T020000
RRULE:FREQ=YEARLY;BYMONTH=3;BYDAY=2SU
END:DAYLIGHT
BEGIN:STANDARD
TZOFFSETFROM:-0700
TZOFFSETTO:-0800
TZNAME:PST
DTSTART:19701101T020000
RRULE:FREQ=YEARLY;BYMONTH=11;BYDAY=1SU
END:STANDARD
END:VTIMEZONE
BEGIN:VEVENT
UID:1464587:Event:676748
DTSTAMP:20260423T042514Z
SUMMARY:Fiesta Puertorriqueña: Celebrando y Recordando
DESCRIPTION:The Bay Area Bomba y Plena Workshop invites you to remembe
 r and celebrate life and growth that results from loss and suffering. 
 Through death and loss comes rebirth and strengthening.\nJoin us in re
 membering & celebrating by participating in our COMMUNITY ALTAR. This 
 installation will represent, in an authentic and intentional way, the 
 suffering, loss, and renewal of life that Puerto Rico and its people h
 ave and are experiencing as a result of hurricane Maria. We encourage 
 you to bring pictures or object to add to the community altar!\nCome h
 ungry so we can enjoy a COMMUNITY MEAL with Puerto Rican cuisine by Ca
 li-Rican catering. Menu coming soon! (Food not included with Ticket.)\
 nBring your dancing shoes, because DJ JOSE RUIZ will be throwing down 
 his incredible collection of tropical music!\nPlus, the Bay Area Bomba
  y Plena Workshop invites you to participate in a special BATEY BORICU
 A COMMUNITY BOMBAZO (BOMB & PLENA JAM). So bring your faldas, barriles
 , panderos, voice and positive vibes to join us in a community jam. Or
  just come enjoy the music and dance!\n\nDoors open at 4:30pm$10 Advan
 ce / $15 Door / $5 Kids under 12\n\nFor more information visit http://
 trueskool.com/events/fiesta-puertorrique-a-celebrando-y-recordando
DTSTART;TZID=America/Los_Angeles:20180729T163000
DTEND;TZID=America/Los_Angeles:20180729T200000
CATEGORIES:berkeley, "bay area"
LOCATION:La Peña Cultural Center, Berkeley
WEBSITE:https://lapena.org/event/fiesta-puertorriquena-celebrando-y-re
 cordando/
URL:https://lapena.org/event/fiesta-puertorriquena-celebrando-y-record
 ando/
CONTACT:5108492568
ORGANIZER;CN="Analisa Pines":http://trueskool.com/profile/AnalisaPines
ATTACH;FMTTYPE="image/jpeg":
ATTENDEE;ROLE=REQ-PARTICIPANT;PARTSTAT=ACCEPTED;RSVP=TRUE;CN="Analisa 
 Pines":http://trueskool.com/profile/AnalisaPines
END:VEVENT
END:VCALENDAR
