BEGIN:VCALENDAR
PRODID:NingEventWidget-v1
VERSION:2.0
METHOD:PUBLISH
BEGIN:VTIMEZONE
TZID:America/Los_Angeles
X-LIC-LOCATION:America/Los_Angeles
BEGIN:DAYLIGHT
TZOFFSETFROM:-0800
TZOFFSETTO:-0700
TZNAME:PDT
DTSTART:19700308T020000
RRULE:FREQ=YEARLY;BYMONTH=3;BYDAY=2SU
END:DAYLIGHT
BEGIN:STANDARD
TZOFFSETFROM:-0700
TZOFFSETTO:-0800
TZNAME:PST
DTSTART:19701101T020000
RRULE:FREQ=YEARLY;BYMONTH=11;BYDAY=1SU
END:STANDARD
END:VTIMEZONE
BEGIN:VEVENT
UID:1464587:Event:412062
DTSTAMP:20260421T054439Z
SUMMARY:FENTON COOLFOOT AND THE RIGHT TIME's Wild S.F. Album Release P
 arty! w/ HOUSE OF WHALES, LIVE @NECK OF THE WOODS
DESCRIPTION:FENTON COOLFOOT AND THE RIGHT TIME will be dropping the lo
 ng awaited album #1 and would love your presence and support on this s
 pecial night. We are very exited to have HOUSE OF WHALES stopping by o
 n there west coast tour from Chicago and drop there extra-fresh style 
 of Hip-Hop on us all . Original, Hand-made FenToN CooLfooT and The Ri
 ght Time merchandise will also be available! 2 killer bands, wild tale
 nt, original music. Support Independent music in the Bay and beyond! K
 eep it alive and come have a blast with us all. Check out HOUSE OF WHA
 LES bio below!  FENTON COOLFOOT: FenToN CooLfooT and The Right Time: A
 n animated 9-piece Funk-Soul-Reggae-Latin band from the Bay Area lucid
 ly producing a border less, bad-ass, neon-colored variety of wild musi
 c. From Rocksteady to Cumbia, 50's rock 'n' roll to Gangster Funk It's
  Independent Rebel Music for 2014 and beyond. Non-stop energy and a ra
 w and soulful multi-style delivery every show FenToN CooLfoot and The 
 Right Time gives you \"Musical Stories of the Bay, Pretty Girls, Shoes
 , Cars, and Geetars Live!\".  facebook.com/fentoncoolfoot FenToN CooLf
 ooT Twitter: @fentoncoolfoot  HOUSE OF WHALES: House of Whales, former
 ly known as Treehouse, is an alternative hip hop band from Chicago, IL
 . The band is touring across the US in celebration of their upcoming s
 elf-titled LP release. Their 2012 EP, Tell No One, received an IMA (In
 dependent Music Award) nomination and much critical acclaim. The new a
 lbum is an evolution of the band's original sound. Through their recor
 ding process, they've unearthed a multi-faceted approach to hip-hop.  
 Emcee Rico Sisney, bassist Mike Ruby and drummer Aunnoy Badruzzaman ar
 e poised to take over in a city whose hip-hop culture has been a topic
  of much discussion as of late. House of Whales’ organic approach co
 mbines spoken word lyricism with various musical stylings to produce a
  truly unique sound. The fundamental trio features multiple artists fr
 om a variety of genres in their live shows and recordings. Experience 
 House of Whales as they take the stage this Fall.  facebook.com/houseo
 fwhales http://www.houseofwhales.com/ House Of Whales Twitter: @houseo
 fwhales\n\nFor more information visit http://trueskool.com/events/fent
 on-coolfoot-and-the-right-time-s-s-f-album-release-party-w
DTSTART;TZID=America/Los_Angeles:20140912T210000
DTEND;TZID=America/Los_Angeles:20140913T020000
CATEGORIES:"neck of the woods", "san francisco", "bay area", chicago, 
 funk, soul, reggae, latin, hip-hop, "fenton coolfoot", "house of whale
 s"
LOCATION:Neck Of The Woods, San Francisco, California
WEBSITE:http://www.ticketfly.com/purchase/event/661581?__utma=1.105268
 7255.1407545194.1408564447.1408994613.4&__utmb=1.1.10.1408994613&__utm
 c=1&__utmx=-&__utmz=1.1408994613.4.4.utmcsr=google|utmccn=(organic)|ut
 mcmd=organic|utmctr=(not%20provided)&__utmv=-&__utmk=234306846
URL:http://www.ticketfly.com/purchase/event/661581?__utma=1.1052687255
 .1407545194.1408564447.1408994613.4&__utmb=1.1.10.1408994613&__utmc=1&
 __utmx=-&__utmz=1.1408994613.4.4.utmcsr=google|utmccn=(organic)|utmcmd
 =organic|utmctr=(not%20provided)&__utmv=-&__utmk=234306846
CONTACT:415-387-6343
ORGANIZER;CN="FenToN CooLfooT":http://trueskool.com/profile/FenToNCooL
 fooT
ATTACH;FMTTYPE="image/jpeg":http://storage.ning.com/topology/rest/1.0/
 file/get/2106923468?profile=original
ATTENDEE;ROLE=REQ-PARTICIPANT;PARTSTAT=ACCEPTED;RSVP=TRUE;CN="FenToN C
 ooLfooT":http://trueskool.com/profile/FenToNCooLfooT
END:VEVENT
END:VCALENDAR
