BEGIN:VCALENDAR
PRODID:NingEventWidget-v1
VERSION:2.0
METHOD:PUBLISH
BEGIN:VTIMEZONE
TZID:America/Los_Angeles
X-LIC-LOCATION:America/Los_Angeles
BEGIN:DAYLIGHT
TZOFFSETFROM:-0800
TZOFFSETTO:-0700
TZNAME:PDT
DTSTART:19700308T020000
RRULE:FREQ=YEARLY;BYMONTH=3;BYDAY=2SU
END:DAYLIGHT
BEGIN:STANDARD
TZOFFSETFROM:-0700
TZOFFSETTO:-0800
TZNAME:PST
DTSTART:19701101T020000
RRULE:FREQ=YEARLY;BYMONTH=11;BYDAY=1SU
END:STANDARD
END:VTIMEZONE
BEGIN:VEVENT
UID:1464587:Event:650403
DTSTAMP:20260421T043055Z
SUMMARY:Femi Kuti (WIN TICKETS)
DESCRIPTION:ENTER TO WIN A PAIR OF TICKETS. WINNER WILL BE DRAWN RANDO
 MLY AND ANNOUNCED 2 DAYS PRIOR TO EVENT.   \n\n\nWednesday, June 29,
  2016\nFemi Kuti & The Positive Force  with DJ Harry Duncan\n\n@ The F
 illmore, San Francisco Doors 7:00 p.m. // Show 8:00 p.m. Tickets are $
 35.00 plus applicable charges. >> BUY TICKETS\n\n\nFor more informatio
 n visit http://trueskool.com/events/femi-kuti-5
DTSTART;TZID=America/Los_Angeles:20160629T190000
DTEND;TZID=America/Los_Angeles:20160629T230000
CATEGORIES:"san francisco", oakland, berkley, "san jose", "bay area"
LOCATION:The Fillmore, San Francisco
WEBSITE:http://concerts.livenation.com/event/1C0050ACADA762A8
URL:http://concerts.livenation.com/event/1C0050ACADA762A8
CONTACT:
ORGANIZER:Live Nation
ATTACH;FMTTYPE="image/jpeg":http://storage.ning.com/topology/rest/1.0/
 file/get/2247989462?profile=original
ATTENDEE;ROLE=REQ-PARTICIPANT;PARTSTAT=ACCEPTED;RSVP=TRUE;CN="Editor's
  Pick":http://trueskool.com/profile/RentheVinylArchaeologist
END:VEVENT
END:VCALENDAR
