BEGIN:VCALENDAR
PRODID:NingEventWidget-v1
VERSION:2.0
METHOD:PUBLISH
BEGIN:VTIMEZONE
TZID:America/Los_Angeles
X-LIC-LOCATION:America/Los_Angeles
BEGIN:DAYLIGHT
TZOFFSETFROM:-0800
TZOFFSETTO:-0700
TZNAME:PDT
DTSTART:19700308T020000
RRULE:FREQ=YEARLY;BYMONTH=3;BYDAY=2SU
END:DAYLIGHT
BEGIN:STANDARD
TZOFFSETFROM:-0700
TZOFFSETTO:-0800
TZNAME:PST
DTSTART:19701101T020000
RRULE:FREQ=YEARLY;BYMONTH=11;BYDAY=1SU
END:STANDARD
END:VTIMEZONE
BEGIN:VEVENT
UID:1464587:Event:675723
DTSTAMP:20260420T153625Z
SUMMARY:Featuring SisQó, Nokio, Jazz & Tao DRU HILL
DESCRIPTION:Featuring SisQó, Nokio, Jazz & Tao DRU HILL\r\n\r\nSaturd
 ay Jun 23, 2018 Doors: 7:00 PM  Show: 7:30 PM\r\n$59 - $95\r\nSaturday
  Jun 23, 2018 Doors: 9:15 PM  Show: 9:30 PM\r\n$59\r\nSunday Jun 24, 2
 018 Doors: 6:30 PM  Show: 7:00 PM\r\n$49 - $89\r\nSunday Jun 24, 2018 
 Doors: 8:45 PM  Show: 9:00 PM\r\n$49\r\nYoshi's Oakland 510 Embarcader
 o West  Oakland, CA\n\nFor more information visit http://trueskool.com
 /events/featuring-sisqo-nokio-jazz-tao-dru-hill
DTSTART;TZID=America/Los_Angeles:20180623T193000
DTEND;TZID=America/Los_Angeles:20180623T230000
CATEGORIES:"bay area", oakland, "san francisco", "san jose", berkeley
LOCATION:Yoshi's Oakland
WEBSITE:https://www.ticketfly.com/purchase/delivery
URL:https://www.ticketfly.com/purchase/delivery
CONTACT:
ORGANIZER;CN="Editor's Pick":http://trueskool.com/profile/RentheVinylA
 rchaeologist
ATTACH;FMTTYPE="image/jpeg":http://storage.ning.com/topology/rest/1.0/
 file/get/2248008602?profile=original
ATTENDEE;ROLE=REQ-PARTICIPANT;PARTSTAT=ACCEPTED;RSVP=TRUE;CN="Editor's
  Pick":http://trueskool.com/profile/RentheVinylArchaeologist
END:VEVENT
END:VCALENDAR
