BEGIN:VCALENDAR
PRODID:NingEventWidget-v1
VERSION:2.0
METHOD:PUBLISH
BEGIN:VTIMEZONE
TZID:America/Los_Angeles
X-LIC-LOCATION:America/Los_Angeles
BEGIN:DAYLIGHT
TZOFFSETFROM:-0800
TZOFFSETTO:-0700
TZNAME:PDT
DTSTART:19700308T020000
RRULE:FREQ=YEARLY;BYMONTH=3;BYDAY=2SU
END:DAYLIGHT
BEGIN:STANDARD
TZOFFSETFROM:-0700
TZOFFSETTO:-0800
TZNAME:PST
DTSTART:19701101T020000
RRULE:FREQ=YEARLY;BYMONTH=11;BYDAY=1SU
END:STANDARD
END:VTIMEZONE
BEGIN:VEVENT
UID:1464587:Event:366938
DTSTAMP:20260421T070652Z
SUMMARY:Faultline - a Breakbeat monthly party! with special guest West
  Smith
DESCRIPTION:WES SMITH is an established DJ and producer based out of S
 an Diego, CA. Wes is also the Juice Recordings (Official) label boss, 
 chief sticker bomber and creative force behind The Juice Squad. http:/
 /www.deejaywessmith.com/ http://www.juicerecordings.com/  Justin Johns
 on (Barely Legal Records, Cable Recordings) http://www.soundcloud.com/
 djjustinjohnson http://www.barelylegalrecords.net/ http://www.techtoni
 cfunkbrigade.com/  DJ138 (Midnight Sons) http://soundcloud.com/dj-0138
  https://www.facebook.com/xDJ138x  >>Special tagteam set with special 
 guest Agent 137! << https://www.facebook.com/Agent137 https://soundclo
 ud.com/agent-137  Sean Infinitee (HyperKat-Recordings, iRock-Classics,
  Midnight Sons, DOT) https://soundcloud.com/hyperkat-recordings https:
 //soundcloud.com/irock-classix  Eric Riggsbee https://soundcloud.com/e
 ric-riggsbee  -_-_-_-_-_-_-_-_-_-_-_-_-_  Lounge 3411 3411 MacArthur B
 lvd Oakland 21+ w/ID FREE all night long.\n\nFor more information visi
 t http://trueskool.com/events/faultline-a-breakbeat-monthly-party-with
 -special-guest-west-smith
DTSTART;TZID=America/Los_Angeles:20140704T210000
DTEND;TZID=America/Los_Angeles:20140705T020000
CATEGORIES:oakland, ca, bay, area, norcal, macarthur, east, lounge, 34
 11
LOCATION:Lounge 3411
WEBSITE:http://www.lounge3411.com/Location.html
URL:http://www.lounge3411.com/Location.html
CONTACT:[510] 531-3411
ORGANIZER:SeismiCity Presents
ATTACH;FMTTYPE="image/jpeg":http://storage.ning.com/topology/rest/1.0/
 file/get/2247961795?profile=original
ATTENDEE;ROLE=REQ-PARTICIPANT;PARTSTAT=ACCEPTED;RSVP=TRUE;CN="Justin J
 ohnson":http://trueskool.com/profile/JustinJohnson
END:VEVENT
END:VCALENDAR
