BEGIN:VCALENDAR
PRODID:NingEventWidget-v1
VERSION:2.0
METHOD:PUBLISH
BEGIN:VTIMEZONE
TZID:America/Los_Angeles
X-LIC-LOCATION:America/Los_Angeles
BEGIN:DAYLIGHT
TZOFFSETFROM:-0800
TZOFFSETTO:-0700
TZNAME:PDT
DTSTART:19700308T020000
RRULE:FREQ=YEARLY;BYMONTH=3;BYDAY=2SU
END:DAYLIGHT
BEGIN:STANDARD
TZOFFSETFROM:-0700
TZOFFSETTO:-0800
TZNAME:PST
DTSTART:19701101T020000
RRULE:FREQ=YEARLY;BYMONTH=11;BYDAY=1SU
END:STANDARD
END:VTIMEZONE
BEGIN:VEVENT
UID:1464587:Event:367088
DTSTAMP:20260420T170728Z
SUMMARY:Faultline - a Breakbeat monthly party! with special guest Kimb
 a
DESCRIPTION:SeismiCity Events is proud to present the Bay Area's only 
 official all Breaks monthly, \"FAULTLINE,\" every first Friday at Loun
 ge 3411 in Oakland!  //////FAULTLINE//////  This month we welcome Kimb
 a (Opel Productions) http://www.djkimba.com/ https://soundcloud.com/ki
 mba-rose http://www.facebook.com/djkimbarose   Justin Johnson (Barely 
 Legal Records, Cable Recordings) http://www.soundcloud.com/djjustinjoh
 nson http://www.barelylegalrecords.net/ htt://www.techtonicfunkbrigade
 .com  DJ 138 (Midnight Sons) http://soundcloud.com/dj-0138  Sean Infin
 itee (HyperKat-Recordings, iRock-Classics, Midnight Sons, DOT) https:/
 /soundcloud.com/hyperkat-recordings https://soundcloud.com/irock-class
 ix  Eric Riggsbee https://soundcloud.com/eric-riggsbee  -_-_-_-_-_-_-_
 -_-_-_-_-_-_  Lounge 3411 3411 MacArthur Blvd Oakland 21+ w/ID FREE al
 l night long.\n\nFor more information visit http://trueskool.com/event
 s/faultline-a-breakbeat-monthly-party-with-special-guest-kimba
DTSTART;TZID=America/Los_Angeles:20140606T210000
DTEND;TZID=America/Los_Angeles:20140607T020000
CATEGORIES:oakland, ca, bay, area, norcal, macarthur, east, lounge, 34
 11
LOCATION:Lounge 3411
WEBSITE:http://www.lounge3411.com/Location.html
URL:http://www.lounge3411.com/Location.html
CONTACT:[510] 531-3411
ORGANIZER:SeismiCity Presents
ATTACH;FMTTYPE="image/jpeg":http://storage.ning.com/topology/rest/1.0/
 file/get/2247962505?profile=original
ATTENDEE;ROLE=REQ-PARTICIPANT;PARTSTAT=ACCEPTED;RSVP=TRUE;CN="Justin J
 ohnson":http://trueskool.com/profile/JustinJohnson
END:VEVENT
END:VCALENDAR
