BEGIN:VCALENDAR
PRODID:NingEventWidget-v1
VERSION:2.0
METHOD:PUBLISH
BEGIN:VTIMEZONE
TZID:America/Los_Angeles
X-LIC-LOCATION:America/Los_Angeles
BEGIN:DAYLIGHT
TZOFFSETFROM:-0800
TZOFFSETTO:-0700
TZNAME:PDT
DTSTART:19700308T020000
RRULE:FREQ=YEARLY;BYMONTH=3;BYDAY=2SU
END:DAYLIGHT
BEGIN:STANDARD
TZOFFSETFROM:-0700
TZOFFSETTO:-0800
TZNAME:PST
DTSTART:19701101T020000
RRULE:FREQ=YEARLY;BYMONTH=11;BYDAY=1SU
END:STANDARD
END:VTIMEZONE
BEGIN:VEVENT
UID:1464587:Event:645936
DTSTAMP:20260421T061835Z
SUMMARY:Fat Joe & Remy Ma - A Tribute to Big Pun
DESCRIPTION:\n Sun, May 15, 2016 Fat Joe & Remy Ma  A Tribute to Big P
 un plus special guest\nThe Regency Ballroom 1300 Van Ness Avenue San F
 rancisco, CA 94109 (415) 673-5716 Ages: All Ages Doors Open: 7:00PM. S
 how: 8:00PM Starting from: $35.00 Onsale: Fri, Apr 1, 2016 - 10:00AM P
 DT >> BUY TICKETS\n\n\n\nFor more information visit http://trueskool.c
 om/events/fat-joe-remy-ma-a-tribute-to-big-pun
DTSTART;TZID=America/Los_Angeles:20160515T190000
DTEND;TZID=America/Los_Angeles:20160515T230000
CATEGORIES:"bay area", "san francisco"
LOCATION:The Regency Ballroom, San Francisco
WEBSITE:http://www.axs.com/events/308909/fat-joe-remy-ma-a-tribute-to-
 big-pun-tickets?cid=reg_fatjoe_trueskool
URL:http://www.axs.com/events/308909/fat-joe-remy-ma-a-tribute-to-big-
 pun-tickets?cid=reg_fatjoe_trueskool
CONTACT:
ORGANIZER:Goldenvoice
ATTACH;FMTTYPE="image/jpeg":http://storage.ning.com/topology/rest/1.0/
 file/get/2247987219?profile=original
ATTENDEE;ROLE=REQ-PARTICIPANT;PARTSTAT=ACCEPTED;RSVP=TRUE;CN="Editor's
  Pick":http://trueskool.com/profile/RentheVinylArchaeologist
END:VEVENT
END:VCALENDAR
