BEGIN:VCALENDAR
PRODID:NingEventWidget-v1
VERSION:2.0
METHOD:PUBLISH
BEGIN:VTIMEZONE
TZID:America/Los_Angeles
X-LIC-LOCATION:America/Los_Angeles
BEGIN:DAYLIGHT
TZOFFSETFROM:-0800
TZOFFSETTO:-0700
TZNAME:PDT
DTSTART:19700308T020000
RRULE:FREQ=YEARLY;BYMONTH=3;BYDAY=2SU
END:DAYLIGHT
BEGIN:STANDARD
TZOFFSETFROM:-0700
TZOFFSETTO:-0800
TZNAME:PST
DTSTART:19701101T020000
RRULE:FREQ=YEARLY;BYMONTH=11;BYDAY=1SU
END:STANDARD
END:VTIMEZONE
BEGIN:VEVENT
UID:1464587:Event:675360
DTSTAMP:20260421T034534Z
SUMMARY:Fantastic Negrito
DESCRIPTION:ENTER TO WIN A PAIR OF TICKETS. WINNER WILL BE DRAWN RANDO
 MLY AND ANNOUNCED 2 DAYS PRIOR TO EVENT.\r\n FRIDAY, JUNE 15 Fantastic
  Negrito\r\n@ The Fillmore, San Francisco, CA 9pm >> BUY TICKETS\r\n\r
 \n\r\n\n\nFor more information visit http://trueskool.com/events/fanta
 stic-negrito
DTSTART;TZID=America/Los_Angeles:20180615T180000
DTEND;TZID=America/Los_Angeles:20180615T190000
CATEGORIES:"bay area", "san francisco"
LOCATION:The Fillmore, San Francisco
WEBSITE:https://www1.ticketmaster.com/event/1C005490D82E8A9F?f_PPL=tru
 e&amp;amp;amp;ab=efeat5787v1
URL:https://www1.ticketmaster.com/event/1C005490D82E8A9F?f_PPL=true&am
 p;amp;amp;ab=efeat5787v1
CONTACT:
ORGANIZER:Live Nation
ATTACH;FMTTYPE="image/jpeg":http://storage.ning.com/topology/rest/1.0/
 file/get/2248006997?profile=original
ATTENDEE;ROLE=REQ-PARTICIPANT;PARTSTAT=ACCEPTED;RSVP=TRUE;CN="Editor's
  Pick":http://trueskool.com/profile/RentheVinylArchaeologist
END:VEVENT
END:VCALENDAR
