BEGIN:VCALENDAR
PRODID:NingEventWidget-v1
VERSION:2.0
METHOD:PUBLISH
BEGIN:VTIMEZONE
TZID:America/Los_Angeles
X-LIC-LOCATION:America/Los_Angeles
BEGIN:DAYLIGHT
TZOFFSETFROM:-0800
TZOFFSETTO:-0700
TZNAME:PDT
DTSTART:19700308T020000
RRULE:FREQ=YEARLY;BYMONTH=3;BYDAY=2SU
END:DAYLIGHT
BEGIN:STANDARD
TZOFFSETFROM:-0700
TZOFFSETTO:-0800
TZNAME:PST
DTSTART:19701101T020000
RRULE:FREQ=YEARLY;BYMONTH=11;BYDAY=1SU
END:STANDARD
END:VTIMEZONE
BEGIN:VEVENT
UID:1464587:Event:653506
DTSTAMP:20260421T052706Z
SUMMARY:EyeHeart Halloween: Waka Flocka Flame
DESCRIPTION:Halloween Costume Contest w/ $1000 in Prizes!SnapYourself!
  Photobooth\n\nThe Queens-bred, Atlanta-based MC Waka Flocka Flame 
 is always thinking outside of the box. When you hear Waka’s scratchy
  voice over electro beats by Neon Dreams or Steve Aoki, it’s his way
  of showing that trap music isn’t his only trick:\n“I’m trying t
 o open people’s brains up,” Waka says. “You don’t have to be s
 tuck in a f*cking bubble. You don’t have to do this kind of music be
 cause people say you are this kind of artist. I do electronic music ju
 st to get out the bubble.”\nBorn Juaquin James Malphurs, the 28-year
 -old rapper rose to prominence as Gucci Mane’s protégé and his fla
 gship artist of 1017 Brick Squad. In 2009, Waka released his breakout 
 single “O Let’s Do it,” and that mixtape buzz allowed Waka to re
 lease his debut “Flockaveli” in October, which peaked at No. 2 on 
 the Billboard 100. Including the smash club hits “Hard in da Paint
  and “No Hands.”\nWith 1.9 million followers on Instagram & 1.6 m
 illion followers on Twitter, he’s become one of the largest personas
  on social media, as well as one of the most searched names on Google.
  Waka Flocka Flame is also cultivating a steady EDM presence thanks to
  touring with Steve Aoki and appearing on songs by DJ-producer Borgore
  and Flosstradamus.\n\nFor more information visit http://trueskool.com
 /events/eyeheart-halloween-waka-flocka-flame
DTSTART;TZID=America/Los_Angeles:20161028T210000
DTEND;TZID=America/Los_Angeles:20161029T020000
CATEGORIES:"san francisco", "bay area"
LOCATION:Mezzanine, San Francisco
WEBSITE:http://eyehearthalloween2016.eventbrite.com/?aff=trueskool
URL:http://eyehearthalloween2016.eventbrite.com/?aff=trueskool
CONTACT:415-625-8880
ORGANIZER:EyeHeartSF
ATTACH;FMTTYPE="image/jpeg":http://storage.ning.com/topology/rest/1.0/
 file/get/2247990871?profile=original
ATTENDEE;ROLE=REQ-PARTICIPANT;PARTSTAT=ACCEPTED;RSVP=TRUE;CN=Mezzanine
 SF:http://trueskool.com/profile/MezzanineSF
END:VEVENT
END:VCALENDAR
