BEGIN:VCALENDAR
PRODID:NingEventWidget-v1
VERSION:2.0
METHOD:PUBLISH
BEGIN:VTIMEZONE
TZID:America/Los_Angeles
X-LIC-LOCATION:America/Los_Angeles
BEGIN:DAYLIGHT
TZOFFSETFROM:-0800
TZOFFSETTO:-0700
TZNAME:PDT
DTSTART:19700308T020000
RRULE:FREQ=YEARLY;BYMONTH=3;BYDAY=2SU
END:DAYLIGHT
BEGIN:STANDARD
TZOFFSETFROM:-0700
TZOFFSETTO:-0800
TZNAME:PST
DTSTART:19701101T020000
RRULE:FREQ=YEARLY;BYMONTH=11;BYDAY=1SU
END:STANDARD
END:VTIMEZONE
BEGIN:VEVENT
UID:1464587:Event:642241
DTSTAMP:20260420T103440Z
SUMMARY:Esperanza Spalding presents: Emily’s D+Evolution
DESCRIPTION:ENTER TO WIN A PAIR OF TICKETS. WINNER WILL BE DRAWN RANDO
 MLY AND ANNOUNCED 2 DAYS PRIOR TO EVENT.  \n\n\nSunday, March 13 201
 6\nEsperanza Spalding presents: Emily’s D+Evolution\n\nMezzanine San
  Francisco, CA 8:00 PM\n\nThis event is 21 and over $35.00 - General A
 dmission\n*plus applicable service fees\n\nFor more information visit 
 http://trueskool.com/events/esperanza-spalding-presents-emily-s-d-evol
 ution
DTSTART;TZID=America/Los_Angeles:20160313T200000
DTEND;TZID=America/Los_Angeles:20160313T230000
CATEGORIES:"san francisco", oakland, berkley, "san jose", "bay area"
LOCATION:Mezzanine, San Francisco
WEBSITE:http://www.ticketmaster.com/event/1C00503CC6AA473A?brand=anoth
 erplanet&camefrom=CFC_ANOTHERPLANET_web
URL:http://www.ticketmaster.com/event/1C00503CC6AA473A?brand=anotherpl
 anet&camefrom=CFC_ANOTHERPLANET_web
CONTACT:
ORGANIZER;CN="Editor's Pick":http://trueskool.com/profile/RentheVinylA
 rchaeologist
ATTACH;FMTTYPE="image/jpeg":http://storage.ning.com/topology/rest/1.0/
 file/get/2247983724?profile=original
ATTENDEE;ROLE=REQ-PARTICIPANT;PARTSTAT=ACCEPTED;RSVP=TRUE;CN="Shayla E
 lliott":http://trueskool.com/profile/ShaylaElliott
ATTENDEE;ROLE=REQ-PARTICIPANT;PARTSTAT=ACCEPTED;RSVP=TRUE;CN="Editor's
  Pick":http://trueskool.com/profile/RentheVinylArchaeologist
END:VEVENT
END:VCALENDAR
