BEGIN:VCALENDAR
PRODID:NingEventWidget-v1
VERSION:2.0
METHOD:PUBLISH
BEGIN:VTIMEZONE
TZID:America/Los_Angeles
X-LIC-LOCATION:America/Los_Angeles
BEGIN:DAYLIGHT
TZOFFSETFROM:-0800
TZOFFSETTO:-0700
TZNAME:PDT
DTSTART:19700308T020000
RRULE:FREQ=YEARLY;BYMONTH=3;BYDAY=2SU
END:DAYLIGHT
BEGIN:STANDARD
TZOFFSETFROM:-0700
TZOFFSETTO:-0800
TZNAME:PST
DTSTART:19701101T020000
RRULE:FREQ=YEARLY;BYMONTH=11;BYDAY=1SU
END:STANDARD
END:VTIMEZONE
BEGIN:VEVENT
UID:1464587:Event:721220
DTSTAMP:20260424T074814Z
SUMMARY:Escaped Alone an Audio Play
DESCRIPTION:SAN FRANCISCO, CA (October 19, 2020) – Magic Theatre (So
 nia Fernandez, Interim Artistic Director and Kevin Nelson, Interim Man
 aging Director) is pleased to announce that Caryl Churchill’s ESCAPE
 D ALONE, directed by Loretta Greco, will be released as an audio play.
  ESCAPED ALONE will be available to stream between October 19 and Nove
 mber 15, 2020. Tickets, priced at $10, may be purchased on Magic’s w
 ebsite MagicTheatre.org, or by phone at (415) 441-8822, beginning on M
 onday, October 19.\n \n \n“We hope that you will enjoy the linguis
 tic virtuosity, dry humor and prescient genius that is Caryl Churchill
  -- a writer who has been innovating and exploding the theatrical form
  for five decades,” said Sonia Fernandez, Interim Artistic Director.
  “When we planned the season, we were thrilled to bring Churchill’
 s work to Magic for the first time and center four mature women on our
  stage -- we had no idea how timely this play would feel. ESCAPED ALON
 E conjures and represents the human need for connection, for storytell
 ing, the yearning for and comfort in each other inside of a cataclysm.
  We are so pleased to offer ESCAPED ALONE as an audio play and share i
 ts message of resilience in the intimate space of our listening.”\n
 \nIn ESCAPED ALONE, three old friends and a neighbor spend a summer o
 f afternoons in their English backyard. Entwined histories, laughter, 
 and song abound over tea and catastrophe.\n \nThe cast includes Anne 
 Darragh*+ as “ VI,” Julia McNeal*+ as “MRS. JARRETT,” Elizabet
 h Benedict*+ as “SALLY” and Anne Hallinan as “ LENA.”\n \nIn 
 addition to Ms. Churchill and Ms. Greco, the creative team includes Ja
 ke Rodriguez (Sound Design and Engineering), Jason Stamberger (Music),
  Jackie Hill (Production Manager)\n \nDesigners Andrew Boyce (Set and
  Costume Design), and Chris Lundahl (Lighting Design) had begun work o
 n the original planned stage production.\n \n*Member of Actors' Equit
 y Association, the union of professional actors and stage managers.\n+
 Member of Screen Actors Guild and the American Federation of Televisio
 n and Radio Artists.\n \nESCAPED ALONE runs approximately 45 minutes 
 with no intermission.\n\nFor more information visit http://trueskool.c
 om/events/escaped-alone-an-audio-play
DTSTART;TZID=America/Los_Angeles:20201027T000000
DTEND;TZID=America/Los_Angeles:20201115T234500
CATEGORIES:"san francisco", "bay area"
LOCATION:Magic Theatre, San Francisco, CA
WEBSITE:http://magictheatre.org/season/escaped-alone
URL:http://magictheatre.org/season/escaped-alone
CONTACT:415.441.8822
ORGANIZER:Magic Theatre
ATTACH;FMTTYPE="image/jpeg":https://storage.ning.com/topology/rest/1.0
 /file/get/8084045462?profile=original
ATTENDEE;ROLE=REQ-PARTICIPANT;PARTSTAT=ACCEPTED;RSVP=TRUE;CN="Sam Levi
 t":http://trueskool.com/profile/SamLevit
END:VEVENT
END:VCALENDAR
