BEGIN:VCALENDAR
PRODID:NingEventWidget-v1
VERSION:2.0
METHOD:PUBLISH
BEGIN:VTIMEZONE
TZID:America/Los_Angeles
X-LIC-LOCATION:America/Los_Angeles
BEGIN:DAYLIGHT
TZOFFSETFROM:-0800
TZOFFSETTO:-0700
TZNAME:PDT
DTSTART:19700308T020000
RRULE:FREQ=YEARLY;BYMONTH=3;BYDAY=2SU
END:DAYLIGHT
BEGIN:STANDARD
TZOFFSETFROM:-0700
TZOFFSETTO:-0800
TZNAME:PST
DTSTART:19701101T020000
RRULE:FREQ=YEARLY;BYMONTH=11;BYDAY=1SU
END:STANDARD
END:VTIMEZONE
BEGIN:VEVENT
UID:1464587:Event:292760
DTSTAMP:20260421T022812Z
SUMMARY:ERIC ROBERSON plus Algebra Blessett (WIN TICKETS)
DESCRIPTION:\n Friday, Jan 31 ERIC ROBERSON plus Algebra Blessett R&B 
 and Soul Singer/Songwriter/Producer\n “He is a brilliant singer with
  a voice like red velvet cake.” -Jill Scott – Recording Artist\n\n
 8pm $29 adv, $33 door\n10pm $25 adv, $29 door\n\n \nLocation: Yoshi'
 s, San Francisco City/State: San Francisco, CA Tickets:http://sfyoshi
 s.inticketing.c…\n\n\nFor more information visit http://trueskool.co
 m/events/eric-roberson-plus-algebra-blessett
DTSTART;TZID=America/Los_Angeles:20140131T200000
DTEND;TZID=America/Los_Angeles:20140201T000000
CATEGORIES:"bay area", "san francisco", "oakland\""
LOCATION:Yoshi's, San Francisco
WEBSITE:http://sfyoshis.inticketing.com/evlist.php?events=search&searc
 hstr=eric+roberson&smonth=0&sday=0&syear=0&vstate=0
URL:http://sfyoshis.inticketing.com/evlist.php?events=search&searchstr
 =eric+roberson&smonth=0&sday=0&syear=0&vstate=0
CONTACT:
ORGANIZER;CN="Editor's Pick":http://trueskool.com/profile/RentheVinylA
 rchaeologist
ATTACH;FMTTYPE="image/jpeg":http://storage.ning.com/topology/rest/1.0/
 file/get/2247955435?profile=original
ATTENDEE;ROLE=REQ-PARTICIPANT;PARTSTAT=ACCEPTED;RSVP=TRUE;CN=Barbara:h
 ttp://trueskool.com/profile/Barbara
ATTENDEE;ROLE=REQ-PARTICIPANT;PARTSTAT=ACCEPTED;RSVP=TRUE;CN="Kristina
  Veasley":http://trueskool.com/profile/KristinaVeasley
ATTENDEE;ROLE=REQ-PARTICIPANT;PARTSTAT=ACCEPTED;RSVP=TRUE;CN="Amy Grac
 e Cappels":http://trueskool.com/profile/AmyGraceCappels
ATTENDEE;ROLE=REQ-PARTICIPANT;PARTSTAT=ACCEPTED;RSVP=TRUE;CN="Francis 
 Camaquin":http://trueskool.com/profile/FrancisC
ATTENDEE;ROLE=REQ-PARTICIPANT;PARTSTAT=ACCEPTED;RSVP=TRUE;CN="Elisa Bj
 eldanes":http://trueskool.com/profile/ElisaBjeldanes
ATTENDEE;ROLE=REQ-PARTICIPANT;PARTSTAT=ACCEPTED;RSVP=TRUE;CN="Camille 
 Yin":http://trueskool.com/profile/Camille
ATTENDEE;ROLE=REQ-PARTICIPANT;PARTSTAT=ACCEPTED;RSVP=TRUE;CN="Demetria
  Lawrence":http://trueskool.com/profile/DemetriaLawrence
ATTENDEE;ROLE=REQ-PARTICIPANT;PARTSTAT=ACCEPTED;RSVP=TRUE;CN=Easy:http
 ://trueskool.com/profile/DJEasy
ATTENDEE;ROLE=REQ-PARTICIPANT;PARTSTAT=ACCEPTED;RSVP=TRUE;CN=J:http://
 trueskool.com/profile/J321
ATTENDEE;ROLE=REQ-PARTICIPANT;PARTSTAT=ACCEPTED;RSVP=TRUE;CN="Shayla E
 lliott":http://trueskool.com/profile/ShaylaElliott
ATTENDEE;ROLE=REQ-PARTICIPANT;PARTSTAT=ACCEPTED;RSVP=TRUE;CN="Laneisha
  Whitfield":http://trueskool.com/profile/LaneishaWhitfield
ATTENDEE;ROLE=REQ-PARTICIPANT;PARTSTAT=ACCEPTED;RSVP=TRUE;CN="Editor's
  Pick":http://trueskool.com/profile/RentheVinylArchaeologist
END:VEVENT
END:VCALENDAR
