BEGIN:VCALENDAR
PRODID:NingEventWidget-v1
VERSION:2.0
METHOD:PUBLISH
BEGIN:VTIMEZONE
TZID:America/Los_Angeles
X-LIC-LOCATION:America/Los_Angeles
BEGIN:DAYLIGHT
TZOFFSETFROM:-0800
TZOFFSETTO:-0700
TZNAME:PDT
DTSTART:19700308T020000
RRULE:FREQ=YEARLY;BYMONTH=3;BYDAY=2SU
END:DAYLIGHT
BEGIN:STANDARD
TZOFFSETFROM:-0700
TZOFFSETTO:-0800
TZNAME:PST
DTSTART:19701101T020000
RRULE:FREQ=YEARLY;BYMONTH=11;BYDAY=1SU
END:STANDARD
END:VTIMEZONE
BEGIN:VEVENT
UID:1464587:Event:645568
DTSTAMP:20260421T021732Z
SUMMARY:Equipto (Bored Stiff), Ryan Nicole & Khafre Jay w/ DJ Lex (Sou
 ls of Mischief)
DESCRIPTION:\nSATURDAY, MAR 26HipHopForChange.orgPOWER TO THE PEOPLE\n
 Featuring Some of the Bay's best Raptivists :Equipto (Bored Stiff)Ryan
  NicoleKhafre JayDJ Lex (Souls of Mischief)\nA benefit show and fundra
 iser for MISSSEY to help end human trafficking\n@ 19 Broadway, 17 Broa
 dway Blvd., FairfaxDoors 9:30pm | 21+ | $10BUY TICKETS:https://www.tic
 ketfly.com/purchase/event/1097403\n\nFor more information visit http:/
 /trueskool.com/events/equipto-bored-stiff-ryan-nicole-khafre-jay-w-dj-
 lex-souls-of-misc
DTSTART;TZID=America/Los_Angeles:20160326T213000
DTEND;TZID=America/Los_Angeles:20160327T020000
CATEGORIES:"bay area", fairfax
LOCATION:19 Broadway, Fairfax, CA
WEBSITE:https://www.ticketfly.com/purchase/event/1097403
URL:https://www.ticketfly.com/purchase/event/1097403
CONTACT:
ORGANIZER:HipHopForChange.org
ATTACH;FMTTYPE="image/jpeg":http://storage.ning.com/topology/rest/1.0/
 file/get/2247985675?profile=original
ATTENDEE;ROLE=REQ-PARTICIPANT;PARTSTAT=ACCEPTED;RSVP=TRUE;CN="Editor's
  Pick":http://trueskool.com/profile/RentheVinylArchaeologist
END:VEVENT
END:VCALENDAR
