BEGIN:VCALENDAR
PRODID:NingEventWidget-v1
VERSION:2.0
METHOD:PUBLISH
BEGIN:VTIMEZONE
TZID:America/Los_Angeles
X-LIC-LOCATION:America/Los_Angeles
BEGIN:DAYLIGHT
TZOFFSETFROM:-0800
TZOFFSETTO:-0700
TZNAME:PDT
DTSTART:19700308T020000
RRULE:FREQ=YEARLY;BYMONTH=3;BYDAY=2SU
END:DAYLIGHT
BEGIN:STANDARD
TZOFFSETFROM:-0700
TZOFFSETTO:-0800
TZNAME:PST
DTSTART:19701101T020000
RRULE:FREQ=YEARLY;BYMONTH=11;BYDAY=1SU
END:STANDARD
END:VTIMEZONE
BEGIN:VEVENT
UID:1464587:Event:649253
DTSTAMP:20260420T182211Z
SUMMARY:Environmental Equity Summit feat. Dead Prez | Daytime, All Age
 s event. FREE w/ RSVP
DESCRIPTION:\nSATURDAY, MAY 21 Environmental Equity Summit Hip Hop For
  Change presents a Bay Area POC Environmental Summit, an arts and envi
 ronmental advocacy event that provides a platform to discuss the envir
 onmental needs of POC, and grassroots POC environmentalist groups. It 
 will unite like-minded environmental organizations to connect, exchang
 e ideas, and foster lasting relationships. Attendees of all ages will 
 enjoy a diverse line-up of exhibitors, vendors, DJs, artists, and spea
 kers committed to environmental justice. This event will go to capacit
 y! Register now!\n Featuring live performances by: dead prez, Bambu, K
 hafre Jay, plus more to be announced\n DJs: Ren the Vinyl Archaeologis
 t, Davey D (Hardknock Radio/KPFA) + more!\n Panelists include: Paloma 
 Pavel (PhD), (President of Earth House Center / co-founder of the Brea
 kthrough Communities Project) Carl Anthony (Co-founder of the Breakthr
 ough Communities Project) Wanda Stewart (Executive director at the Peo
 ple's Grocery and Obsidian Farm) Zakiya Harris (Co-Director of Hack Th
 e Hood) Davey D (Hardknock / KPFA) and more TBA\n @ The New Parish, 17
 43 San Pablo Ave, Oakland, CA 94612 1pm-6pm. All Ages. FREE w/ RSVP.\n
 FREE w/ RSVP here:\n\nhttp://hh4cequitysummit.eventbrite.com\n\n \n\n
 If you are a non-profit and would like a booth at the event, contact j
 p@hiphopforchange.org\n\n More info: www.hiphopforchange.org\n\nFor m
 ore information visit http://trueskool.com/events/environmental-equity
 -summit-feat-dead-prez
DTSTART;TZID=America/Los_Angeles:20160521T130000
DTEND;TZID=America/Los_Angeles:20160521T180000
CATEGORIES:"bay area", oakland
LOCATION:The New Parish, Oakland
WEBSITE:http://hh4cequitysummit.eventbrite.com
URL:http://hh4cequitysummit.eventbrite.com
CONTACT:
ORGANIZER:Hip Hop For Change & Akonadi Foundation
ATTACH;FMTTYPE="image/jpeg":http://storage.ning.com/topology/rest/1.0/
 file/get/2247989037?profile=original
ATTENDEE;ROLE=REQ-PARTICIPANT;PARTSTAT=ACCEPTED;RSVP=TRUE;CN="Michelle
  Elusive":http://trueskool.com/profile/MichelleElusive
ATTENDEE;ROLE=REQ-PARTICIPANT;PARTSTAT=ACCEPTED;RSVP=TRUE;CN="Editor's
  Pick":http://trueskool.com/profile/RentheVinylArchaeologist
END:VEVENT
END:VCALENDAR
