BEGIN:VCALENDAR
PRODID:NingEventWidget-v1
VERSION:2.0
METHOD:PUBLISH
BEGIN:VTIMEZONE
TZID:America/Los_Angeles
X-LIC-LOCATION:America/Los_Angeles
BEGIN:DAYLIGHT
TZOFFSETFROM:-0800
TZOFFSETTO:-0700
TZNAME:PDT
DTSTART:19700308T020000
RRULE:FREQ=YEARLY;BYMONTH=3;BYDAY=2SU
END:DAYLIGHT
BEGIN:STANDARD
TZOFFSETFROM:-0700
TZOFFSETTO:-0800
TZNAME:PST
DTSTART:19701101T020000
RRULE:FREQ=YEARLY;BYMONTH=11;BYDAY=1SU
END:STANDARD
END:VTIMEZONE
BEGIN:VEVENT
UID:1464587:Event:115621
DTSTAMP:20260420T080319Z
SUMMARY:Enter The Dancehall Family Vibes Edition
DESCRIPTION:DeeCee's Soul Shakedown Presents: Enter The Dancehall Fami
 ly Vibes Edition The most diverse and positive party in the bay area r
 eturns for 1 night only! Room 1:... Dancehall / Reggae / Remixes / Isl
 and Vibes One Wise Sound DJ Unity Green B Henroc DJ Donette G Cosmic V
 ibes feat Vinny Ras & Lud Dub I&I Vibrations feat Beatnok & Mr. Lucky 
  Room 2: Hip-Hop / Party Rockers / Club Classics Pam The Funktress Sea
 n G Tap 10 Smoke 1 Whooligan Ren The Vinyl Archaeologist  Pre-Party Ho
 sted By: DJ Theory with Free Giveaways from Upper Playground and the D
 Js.   Price Free Before 10pm Guestlist: dcsoulshakedown.com $10 before
  11pm Time 9pm-3am Music Dancehall, Reggae, Remixes, Island Vibes, Hip
 -Hop, Party Rockers, Club Classics\n\nFor more information visit http:
 //trueskool.com/events/enter-the-dancehall-family-vibes-edition-1
DTSTART;TZID=America/Los_Angeles:20120331T210000
DTEND;TZID=America/Los_Angeles:20120401T040000
CATEGORIES:san, francisco, "ca."
LOCATION:Club Six San Francisco
WEBSITE:http://www.clubsix1.com
URL:http://www.clubsix1.com
CONTACT:415-863-1221
ORGANIZER;CN=Cecily:http://trueskool.com/profile/Cecily
ATTACH;FMTTYPE="image/jpeg":http://storage.ning.com/topology/rest/1.0/
 file/get/2247916656?profile=original
ATTENDEE;ROLE=REQ-PARTICIPANT;PARTSTAT=ACCEPTED;RSVP=TRUE;CN=Cecily:ht
 tp://trueskool.com/profile/Cecily
END:VEVENT
END:VCALENDAR
