BEGIN:VCALENDAR
PRODID:NingEventWidget-v1
VERSION:2.0
METHOD:PUBLISH
BEGIN:VTIMEZONE
TZID:America/Los_Angeles
X-LIC-LOCATION:America/Los_Angeles
BEGIN:DAYLIGHT
TZOFFSETFROM:-0800
TZOFFSETTO:-0700
TZNAME:PDT
DTSTART:19700308T020000
RRULE:FREQ=YEARLY;BYMONTH=3;BYDAY=2SU
END:DAYLIGHT
BEGIN:STANDARD
TZOFFSETFROM:-0700
TZOFFSETTO:-0800
TZNAME:PST
DTSTART:19701101T020000
RRULE:FREQ=YEARLY;BYMONTH=11;BYDAY=1SU
END:STANDARD
END:VTIMEZONE
BEGIN:VEVENT
UID:1464587:Event:370751
DTSTAMP:20260421T073400Z
SUMMARY:EMC featuring Masta Ace LIVE w/ Equipto, Opio & BPos
DESCRIPTION:\n Sunday, July 6th, 2014  One League Ent. & The Olive Str
 eet Agency Presents... EMC featuring Masta Ace, Punchline, Wordsworth 
 & Stricklin LIVE\nw/ Equipto & Opio, BPos, DJ Ren the Vinyl Archaeolog
 ist\nat PublicWorks, 161 Erie St (Off Mission Between Duboce and 14th)
 , SF Doors: 8:00 pm / Show: 9:00 pm $15.00 - $18.00 21+\nTIX & INFO: h
 ttp://ticketf.ly/UhY9IA\nHip Hop's supergroup, \"EMC\"----Masta Ace, S
 tricklin, Punchline and Wordsworth, recently released their NEW projec
 t on May 20th, 2014 -- \"Turning Point EP\" (https://itunes.apple.com/
 us/album/id867344587). Their perfromance will include brand new songs 
 from this EP as well as singles from their previous project, The Show 
 (2008). Masta Ace will also grace the stage with a few of his songs fr
 om his critically acclaimed \"Sittin' on Chrome\" (1995) and \"Slaught
 ahouse\" (1993) like platinum single, \"Born To Roll\". Joining the EM
 C Crew will be popular underground Bay Area artists --Solidarity Recor
 ds' Equipto, Hieroglyphics' Opio & One League Ent.'s BPos.\n\nFor more
  information visit http://trueskool.com/events/emc-featuring-masta-ace
 -live-w-equipto-opio-bpos
DTSTART;TZID=America/Los_Angeles:20140706T200000
DTEND;TZID=America/Los_Angeles:20140707T020000
CATEGORIES:"bay area", "san francisco"
LOCATION:Public Works, SF
WEBSITE:http://ticketf.ly/UhY9IA
URL:http://ticketf.ly/UhY9IA
CONTACT:
ORGANIZER:One League Ent. & The Olive Street Agency
ATTACH;FMTTYPE="image/jpeg":http://storage.ning.com/topology/rest/1.0/
 file/get/2247963234?profile=original
ATTENDEE;ROLE=REQ-PARTICIPANT;PARTSTAT=ACCEPTED;RSVP=TRUE;CN="Xavier N
 arez":http://trueskool.com/profile/XavierNarez
ATTENDEE;ROLE=REQ-PARTICIPANT;PARTSTAT=ACCEPTED;RSVP=TRUE;CN="Editor's
  Pick":http://trueskool.com/profile/RentheVinylArchaeologist
ATTENDEE;ROLE=REQ-PARTICIPANT;PARTSTAT=ACCEPTED;RSVP=TRUE;CN="James Mi
 chael Federighi":http://trueskool.com/profile/JamesMichaelFederighi
END:VEVENT
END:VCALENDAR
