BEGIN:VCALENDAR
PRODID:NingEventWidget-v1
VERSION:2.0
METHOD:PUBLISH
BEGIN:VTIMEZONE
TZID:America/Los_Angeles
X-LIC-LOCATION:America/Los_Angeles
BEGIN:DAYLIGHT
TZOFFSETFROM:-0800
TZOFFSETTO:-0700
TZNAME:PDT
DTSTART:19700308T020000
RRULE:FREQ=YEARLY;BYMONTH=3;BYDAY=2SU
END:DAYLIGHT
BEGIN:STANDARD
TZOFFSETFROM:-0700
TZOFFSETTO:-0800
TZNAME:PST
DTSTART:19701101T020000
RRULE:FREQ=YEARLY;BYMONTH=11;BYDAY=1SU
END:STANDARD
END:VTIMEZONE
BEGIN:VEVENT
UID:1464587:Event:536299
DTSTAMP:20260420T204230Z
SUMMARY:Elevation 5-Year Anniversary w/ Ren the Vinyl Archaeologist @ 
 Layover, Oakland
DESCRIPTION:\nTHURSDAY-FRIDAY, APR 30-MAY 1 True Skool & Layover prese
 nt\nElevation 5-Year Anniversary Elevating your mind, body and soul to
  new heights with a mix hip hop, reggae, soul, funk, house and breaks 
  With your pilot Ren the Vinyl Archaeologist (True Skool)\n @ The Lay
 over, 1517 Frankin St, Oakland No cover, 21+, 10pm-2am Info: http://w
 ww.trueskool.com\n \n\n\nGolden Era Mix by Ren The Vinyl Archaeologist
  on Mixcloud\n\n\nFor more information visit http://trueskool.com/even
 ts/elevation-w-ren-the-vinyl-archaeologist-layover-oakland-8
DTSTART;TZID=America/Los_Angeles:20150430T220000
DTEND;TZID=America/Los_Angeles:20150502T020000
CATEGORIES:"bay area", "san francisco"
LOCATION:The Layover, Oakland, CA
WEBSITE:http://maps.google.com/maps?q=1517+Franklin+Street,+Oakland,+C
 A&hl=en&sll=37.0625,-95.677068&sspn=56.06887,89.560547&t=h&z=17
URL:http://maps.google.com/maps?q=1517+Franklin+Street,+Oakland,+CA&hl
 =en&sll=37.0625,-95.677068&sspn=56.06887,89.560547&t=h&z=17
CONTACT:
ORGANIZER:True Skool & Layover
ATTACH;FMTTYPE="image/jpeg":http://storage.ning.com/topology/rest/1.0/
 file/get/2247935104?profile=original
ATTENDEE;ROLE=REQ-PARTICIPANT;PARTSTAT=ACCEPTED;RSVP=TRUE;CN="Editor's
  Pick":http://trueskool.com/profile/RentheVinylArchaeologist
END:VEVENT
END:VCALENDAR
