BEGIN:VCALENDAR
PRODID:NingEventWidget-v1
VERSION:2.0
METHOD:PUBLISH
BEGIN:VTIMEZONE
TZID:America/Los_Angeles
X-LIC-LOCATION:America/Los_Angeles
BEGIN:DAYLIGHT
TZOFFSETFROM:-0800
TZOFFSETTO:-0700
TZNAME:PDT
DTSTART:19700308T020000
RRULE:FREQ=YEARLY;BYMONTH=3;BYDAY=2SU
END:DAYLIGHT
BEGIN:STANDARD
TZOFFSETFROM:-0700
TZOFFSETTO:-0800
TZNAME:PST
DTSTART:19701101T020000
RRULE:FREQ=YEARLY;BYMONTH=11;BYDAY=1SU
END:STANDARD
END:VTIMEZONE
BEGIN:VEVENT
UID:1464587:Event:361399
DTSTAMP:20260420T203901Z
SUMMARY:Electric Wire Hustle w/Starship Connection & Rojai & E.Live
DESCRIPTION:\nEarshot Entertainment & BRS Global Present FRI JUNE 6TH 
 @ Brick & Mortar Music Hall ELECTRIC WIRE HUSTLE The Starship Connecti
 on, Rojai & E. Live  Doors: 8:00 pm / Show: 9:00 pm $20 adv - $25 dos 
  Electric Wire Hustle (New Zealand)  With their debut self-titled alb
 um Electric Wire Hustle achieved cult status. A number one song on Hyp
 e Machine, five-star reviews from the likes of Okayplayer, and BBC Rad
 io support from Gilles Peterson and Benji B secured them unwavering su
 pport internationally. A flood of production requests followed their f
 irst release, the fruits of which we will see in 2013, along with thei
 r heavily anticipated second album. Demand for their live show has see
 n EWH perform in 14 countries, appearing at festivals such as Glastonb
 ury, Dour, Sonar, Sziget, SXSW, Gilles Peterson's Worldwide and New Yo
 rk's CMJ. With a slew of new material to come in 2013, EWH are poised 
 to make significant contributions towards GOOD MUSIC.  http://electric
 wirehustle.com/  Starship Connection A funked out future bass quartet 
 from SF. B.Bravo (frite nite) & Teeko (41Funk) co-pilot the connection
 .    Rojai & E.Live Where funk meets soul and love meets grit, the po
 werful vocal stylings of Jairo Vargas, aka Rojai (row-juh), merge elem
 ents to produce a raw soulful sound as distinct and unique as the San 
 Francisco streets that bred him. After making the transition from MC t
 o singer in his teenage years, Rojai’s first solo project offers us 
 a spotlight to watch the now seasoned artist do what he does best –c
 hannel a sixth sense that only he holds to move crowds with consistent
  passion, energy and emotion.\n\nFor more information visit http://tru
 eskool.com/events/electric-wire-hustle-w-starship-connection-rojai-e-l
 ive
DTSTART;TZID=America/Los_Angeles:20140606T200000
DTEND;TZID=America/Los_Angeles:20140607T011500
CATEGORIES:"brick and mortar", electric, wire, hustle, "starship conne
 ction"
LOCATION:Brick & Mortar Music Hall
WEBSITE:http://t.co/4NH9klNoSl
URL:http://t.co/4NH9klNoSl
CONTACT:
ORGANIZER:Earshot Ent & BRS Global
ATTACH;FMTTYPE="image/jpeg":http://storage.ning.com/topology/rest/1.0/
 file/get/2247961582?profile=original
ATTENDEE;ROLE=REQ-PARTICIPANT;PARTSTAT=ACCEPTED;RSVP=TRUE;CN="Mars Tod
 ay":http://trueskool.com/profile/MrMarsToday
END:VEVENT
END:VCALENDAR
