BEGIN:VCALENDAR
PRODID:NingEventWidget-v1
VERSION:2.0
METHOD:PUBLISH
BEGIN:VTIMEZONE
TZID:America/Los_Angeles
X-LIC-LOCATION:America/Los_Angeles
BEGIN:DAYLIGHT
TZOFFSETFROM:-0800
TZOFFSETTO:-0700
TZNAME:PDT
DTSTART:19700308T020000
RRULE:FREQ=YEARLY;BYMONTH=3;BYDAY=2SU
END:DAYLIGHT
BEGIN:STANDARD
TZOFFSETFROM:-0700
TZOFFSETTO:-0800
TZNAME:PST
DTSTART:19701101T020000
RRULE:FREQ=YEARLY;BYMONTH=11;BYDAY=1SU
END:STANDARD
END:VTIMEZONE
BEGIN:VEVENT
UID:1464587:Event:675837
DTSTAMP:20260421T020359Z
SUMMARY:EL DEBARGE
DESCRIPTION:R&B's most distinctive and celebrated voice\r\nEL DEBARGE\
 r\n\r\nSunday Jul 29, 2018 Doors: 6:30 PM  Show: 7:00 PM\r\n$75\r\nSun
 day Jul 29, 2018 Doors: 8:45 PM  Show: 9:00 PM\r\n$75\r\nMonday Jul 30
 , 2018 Doors: 7:30 PM  Show: 8:00 PM\r\n$75\r\nMonday Jul 30, 2018 Doo
 rs: 9:45 PM  Show: 10:00 PM\r\n$75\r\nYoshi's Oakland 510 Embarcadero 
 West  Oakland, CA\n\nFor more information visit http://trueskool.com/e
 vents/el-debarge-2
DTSTART;TZID=America/Los_Angeles:20180729T183000
DTEND;TZID=America/Los_Angeles:20180730T000000
CATEGORIES:"bay area", oakland, "san francisco", "san jose", berkeley
LOCATION:Yoshi's Oakland
WEBSITE:https://www.ticketfly.com/purchase/event/1656198?_ga=2.2309925
 43.1860813629.1529067049-1563873870.1529067049&amp;__utma=1.722224093.
 1529067049.1529067049.1529068243.2&amp;__utmb=1.5.10.1529068243&amp;__
 utmc=1&amp;__utmx=-&amp;__utmz=1.1529068243.2.2.utmcsr=google|utmccn=(
 organic)|utmcmd=organic|utmctr=(not%20provided)&amp;__utmv=-&amp;__utm
 k=228389021
URL:https://www.ticketfly.com/purchase/event/1656198?_ga=2.230992543.1
 860813629.1529067049-1563873870.1529067049&amp;__utma=1.722224093.1529
 067049.1529067049.1529068243.2&amp;__utmb=1.5.10.1529068243&amp;__utmc
 =1&amp;__utmx=-&amp;__utmz=1.1529068243.2.2.utmcsr=google|utmccn=(orga
 nic)|utmcmd=organic|utmctr=(not%20provided)&amp;__utmv=-&amp;__utmk=22
 8389021
CONTACT:
ORGANIZER;CN="Editor's Pick":http://trueskool.com/profile/RentheVinylA
 rchaeologist
ATTACH;FMTTYPE="image/jpeg":http://storage.ning.com/topology/rest/1.0/
 file/get/2248007580?profile=original
ATTENDEE;ROLE=REQ-PARTICIPANT;PARTSTAT=ACCEPTED;RSVP=TRUE;CN="Editor's
  Pick":http://trueskool.com/profile/RentheVinylArchaeologist
END:VEVENT
END:VCALENDAR
