BEGIN:VCALENDAR
PRODID:NingEventWidget-v1
VERSION:2.0
METHOD:PUBLISH
BEGIN:VTIMEZONE
TZID:America/Los_Angeles
X-LIC-LOCATION:America/Los_Angeles
BEGIN:DAYLIGHT
TZOFFSETFROM:-0800
TZOFFSETTO:-0700
TZNAME:PDT
DTSTART:19700308T020000
RRULE:FREQ=YEARLY;BYMONTH=3;BYDAY=2SU
END:DAYLIGHT
BEGIN:STANDARD
TZOFFSETFROM:-0700
TZOFFSETTO:-0800
TZNAME:PST
DTSTART:19701101T020000
RRULE:FREQ=YEARLY;BYMONTH=11;BYDAY=1SU
END:STANDARD
END:VTIMEZONE
BEGIN:VEVENT
UID:1464587:Event:132023
DTSTAMP:20260419T110641Z
SUMMARY:El Canto Eterno: Victor Jara's 80th Anniversary
DESCRIPTION:Join us for an evening of songs, art, poetry, and multimed
 ia.\nBenefit for La Peña.\n$5-$80 sliding scale\n \nFeaturing:\nPach
 i Baronvain-Silva & Rodrigo Silva\nLichi Fuentes\nRafael Manriquez\nDu
 amuxa\nFrancisco Alarcon\nMaria Loreto\nCarlos Baron\nIvan Herrera\nQu
 ique Cruz\nFeña TorresRafael Jesus GonzalezChilean folksinger Victor 
 Jara (1932–1973) was the voice of his country's dispossessed, an int
 ernationally admired songwriter, and one of the founders of a new genr
 e of Latin American song. He was killed by Chilean security forces dur
 ing the coup that deposed the country's elected president, Salvador Al
 lende, in September of 1973.\n\nFor more information visit http://true
 skool.com/events/el-canto-eterno-victor-jara-s-80th-anniversary
DTSTART;TZID=America/Los_Angeles:20120928T200000
DTEND;TZID=America/Los_Angeles:20120928T220000
CATEGORIES:berkeley, ca
LOCATION:La Peña Cultural Center
WEBSITE:
URL:
CONTACT:
ORGANIZER;CN="La Peña Cultural Center":http://trueskool.com/profile/L
 aPenaCulturalCenter
ATTACH;FMTTYPE="image/jpeg":http://storage.ning.com/topology/rest/1.0/
 file/get/2247922067?profile=original
ATTENDEE;ROLE=REQ-PARTICIPANT;PARTSTAT=ACCEPTED;RSVP=TRUE;CN="La Peña
  Cultural Center":http://trueskool.com/profile/LaPenaCulturalCenter
END:VEVENT
END:VCALENDAR
