BEGIN:VCALENDAR
PRODID:NingEventWidget-v1
VERSION:2.0
METHOD:PUBLISH
BEGIN:VTIMEZONE
TZID:America/Los_Angeles
X-LIC-LOCATION:America/Los_Angeles
BEGIN:DAYLIGHT
TZOFFSETFROM:-0800
TZOFFSETTO:-0700
TZNAME:PDT
DTSTART:19700308T020000
RRULE:FREQ=YEARLY;BYMONTH=3;BYDAY=2SU
END:DAYLIGHT
BEGIN:STANDARD
TZOFFSETFROM:-0700
TZOFFSETTO:-0800
TZNAME:PST
DTSTART:19701101T020000
RRULE:FREQ=YEARLY;BYMONTH=11;BYDAY=1SU
END:STANDARD
END:VTIMEZONE
BEGIN:VEVENT
UID:1464587:Event:662894
DTSTAMP:20260421T023610Z
SUMMARY:ECHO FLEX
DESCRIPTION:ECHO FLEX is coming to San Francisco on FRIDAY JUNE 2ND at
  the Mezzanine. We'll be playing all your favorite 2000's era hip hop 
 jams & more.\nThis month, we are raising money for Leukemia & Lymphoma
  Society (LLS) and please help us promote donations to http://byecanc
 er.org!\n\nWith DJ's...\nDOT DA GENIUS (Kid Cudi's producer, WZRD)\nCA
 M TANG\nSTEVIE BE\nMARCO DE LA VEGA\nFREE before 10PM with RSVP, $15 a
 fter\n$10 General Admission tickets available\n\nFor more information 
 visit http://trueskool.com/events/echo-flex
DTSTART;TZID=America/Los_Angeles:20170601T210000
DTEND;TZID=America/Los_Angeles:20170602T020000
CATEGORIES:"san francisco", "bay area", "mezzanine sf"
LOCATION:Mezzanine, San Francisco, CA
WEBSITE:https://www.eventbrite.com/e/free-rsvp-echo-flex-2000s-hip-hop
 -party-at-mezzanine-tickets-34551412204
URL:https://www.eventbrite.com/e/free-rsvp-echo-flex-2000s-hip-hop-par
 ty-at-mezzanine-tickets-34551412204
CONTACT:
ORGANIZER;CN=MezzanineSF:http://trueskool.com/profile/MezzanineSF
ATTACH;FMTTYPE="image/jpeg":http://storage.ning.com/topology/rest/1.0/
 file/get/2247998788?profile=original
ATTENDEE;ROLE=REQ-PARTICIPANT;PARTSTAT=ACCEPTED;RSVP=TRUE;CN=Mezzanine
 SF:http://trueskool.com/profile/MezzanineSF
END:VEVENT
END:VCALENDAR
